BEGIN:VCALENDAR
VERSION:2.0
PRODID:-//Kwataqnuk - ECPv6.15.20//NONSGML v1.0//EN
CALSCALE:GREGORIAN
METHOD:PUBLISH
X-WR-CALNAME:Kwataqnuk
X-ORIGINAL-URL:https://kwataqnuk.com
X-WR-CALDESC:Events for Kwataqnuk
REFRESH-INTERVAL;VALUE=DURATION:PT1H
X-Robots-Tag:noindex
X-PUBLISHED-TTL:PT1H
BEGIN:VTIMEZONE
TZID:America/Denver
BEGIN:DAYLIGHT
TZOFFSETFROM:-0700
TZOFFSETTO:-0600
TZNAME:MDT
DTSTART:20240310T090000
END:DAYLIGHT
BEGIN:STANDARD
TZOFFSETFROM:-0600
TZOFFSETTO:-0700
TZNAME:MST
DTSTART:20241103T080000
END:STANDARD
BEGIN:DAYLIGHT
TZOFFSETFROM:-0700
TZOFFSETTO:-0600
TZNAME:MDT
DTSTART:20250309T090000
END:DAYLIGHT
BEGIN:STANDARD
TZOFFSETFROM:-0600
TZOFFSETTO:-0700
TZNAME:MST
DTSTART:20251102T080000
END:STANDARD
BEGIN:DAYLIGHT
TZOFFSETFROM:-0700
TZOFFSETTO:-0600
TZNAME:MDT
DTSTART:20260308T090000
END:DAYLIGHT
BEGIN:STANDARD
TZOFFSETFROM:-0600
TZOFFSETTO:-0700
TZNAME:MST
DTSTART:20261101T080000
END:STANDARD
END:VTIMEZONE
BEGIN:VEVENT
DTSTART;TZID=America/Denver:20250217T110000
DTEND;TZID=America/Denver:20250217T140000
DTSTAMP:20260420T035902
CREATED:20250129T192528Z
LAST-MODIFIED:20250129T192529Z
UID:33745-1739790000-1739800800@kwataqnuk.com
SUMMARY:Tribal Elders Luncheon at Kwataqnuk
DESCRIPTION:Join us for a special gathering at our annual Tribal Elders Luncheon at Kwataqnuk Resort & Casino\, taking place on Monday\, February 17th. This is a great opportunity to connect and celebrate with fellow tribal community members\, family\, and friends over a warm and filling meal. \n\n\nReservation Details\n\n\nYou can secure your spot today by calling 406-883-3636 extension 475. Please ensure your reservation is confirmed by Monday\, February 10th. You won’t want to miss this opportunity to enjoy a memorable afternoon with our tribal community. \n\n\nMenu Highlights\n\n\nIndulge in a meal featuring: \n\n\nPot Roast with mashed potatoes and gravy\nVegetable side dish\nFresh salad and rolls\nFor dessert\, savor a delightful peach crisp\n\n\nEvent Schedule\n\n\nOur event doors will open at 11:00 AM\, allowing you time to mingle and settle in. Lunch will be served promptly at 12 PM\, so arrive early to enjoy the full experience. \n\n\nWe look forward to welcoming you to the Tribal Elders Luncheon\, where good food and great company await. Book your reservation today and be part of this cherished community event! \n\n\nAdditional Information\nFor more information about our annual Tribal Elders Luncheon at Kwataqnuk Resort and Casino and other property events\, promotions\, specials\, or club member benefits\, please call or visit our friendly Players Club team! \nExplore S&K Gaming\, LLC\nS&K Gaming\, LLC oversees three establishments on the Flathead Indian Reservation! Kwataqnuk Resort & Casino\, Big Arm Resort & Casino\, and Gray Wolf Peak Casino each have something different to offer everyone! From million-dollar views of the pristine Flathead Lake and the Mission Mountains\, dining\, club member benefits\, golf\, gas\, a banquet hall for various events\, and the largest casino in Montana\, S&K Gaming\, LLC has you covered. \nLearn More\nInterested in learning more about S&K Gaming\, LLC and our other locations? Visit our website at https://skgamingllc.com/.
URL:https://kwataqnuk.com/event/tribal-elders-luncheon-at-kwataqnuk/
CATEGORIES:Banquet,event
ATTACH;FMTTYPE=image/jpeg:https://kwataqnuk.com/wp-content/uploads/2025/01/ktn-tribalelderslunch-1920x1080-72dpi.jpg
END:VEVENT
END:VCALENDAR