BEGIN:VCALENDAR
VERSION:2.0
PRODID:-//Kwataqnuk - ECPv6.15.20//NONSGML v1.0//EN
CALSCALE:GREGORIAN
METHOD:PUBLISH
X-WR-CALNAME:Kwataqnuk
X-ORIGINAL-URL:https://kwataqnuk.com
X-WR-CALDESC:Events for Kwataqnuk
REFRESH-INTERVAL;VALUE=DURATION:PT1H
X-Robots-Tag:noindex
X-PUBLISHED-TTL:PT1H
BEGIN:VTIMEZONE
TZID:America/Denver
BEGIN:DAYLIGHT
TZOFFSETFROM:-0700
TZOFFSETTO:-0600
TZNAME:MDT
DTSTART:20230312T090000
END:DAYLIGHT
BEGIN:STANDARD
TZOFFSETFROM:-0600
TZOFFSETTO:-0700
TZNAME:MST
DTSTART:20231105T080000
END:STANDARD
BEGIN:DAYLIGHT
TZOFFSETFROM:-0700
TZOFFSETTO:-0600
TZNAME:MDT
DTSTART:20240310T090000
END:DAYLIGHT
BEGIN:STANDARD
TZOFFSETFROM:-0600
TZOFFSETTO:-0700
TZNAME:MST
DTSTART:20241103T080000
END:STANDARD
BEGIN:DAYLIGHT
TZOFFSETFROM:-0700
TZOFFSETTO:-0600
TZNAME:MDT
DTSTART:20250309T090000
END:DAYLIGHT
BEGIN:STANDARD
TZOFFSETFROM:-0600
TZOFFSETTO:-0700
TZNAME:MST
DTSTART:20251102T080000
END:STANDARD
END:VTIMEZONE
BEGIN:VEVENT
DTSTART;TZID=America/Denver:20241014T190000
DTEND;TZID=America/Denver:20241014T230000
DTSTAMP:20260420T014855
CREATED:20240924T133053Z
LAST-MODIFIED:20240924T133053Z
UID:33345-1728932400-1728946800@kwataqnuk.com
SUMMARY:More Mummy
DESCRIPTION:Join Us for More Mummy!\n\n\nJoin us for a spook-tacular October at Kwataqnuk Resort & Casino with our “More Mummy” promotion! From October 1st to October 28th\, earn entries by playing your favorite slot machines and get a chance to unwrap mummified treasures. \n\n\nExciting Drawings and Prizes\n\n\nWith drawings every Monday and Saturday from 7:00pm to 11:00pm\, you could be one of the 5 lucky winners each night\, taking home up to $500 CASH or Xtra Credit prizes! For every 250 points earned on your SKG Premier Rewards club card\, you’ll receive an entry to win. Don’t miss out on your chance to win big with $6\,500 worth of prizes given away throughout the month. Our exciting “More Mummy” promo promises big wins\, with cash and Xtra Credit prizes waiting to be uncovered. \n\n\nHow to Participate\n\n\nBe sure to insert your club card while playing to earn entries\, and have your entries printed and placed into the drawing barrel 10 minutes before each drawing. Winners must report to the Player’s Club within two minutes to claim their prize. Drawings are held hourly\, so there are plenty of chances to win! \n\n\nDiscover Mummified Treasures\n\n\nDiscover the mummified treasures and join the fun at Kwataqnuk Resort & Casino this October. Let’s make this Halloween season unforgettable with “More Mummy”! \n\n\nAdditional Information\n\n\nFor more information about this promotion and other promotions and club member benefits\, call or visit our friendly Players Club team! \n\n\nExplore S&K Gaming\, LLC\n\n\nS&K Gaming\, LLC oversees three establishments on the Flathead Indian Reservation! Kwataqnuk Resort & Casino\, Big Arm Resort & Casino\, and Gray Wolf Peak Casino each have something different to offer everyone! From million-dollar views of the pristine Flathead Lake and the Mission Mountains\, dining\, club member benefits\, golf\, gas\, a banquet hall for various events\, and the largest casino in Montana\, S&K Gaming\, LLC has you covered. \n\n\nLearn More\n\n\nInterested in learning more about S&K Gaming\, LLC and our other locations? Visit our website at https://skgamingllc.com/.
URL:https://kwataqnuk.com/event/more-mummy-4/
CATEGORIES:Promotion
ATTACH;FMTTYPE=image/jpeg:https://kwataqnuk.com/wp-content/uploads/2024/09/1024-KTN-MoreMoneyNT-Web.jpg
END:VEVENT
END:VCALENDAR