BEGIN:VCALENDAR
VERSION:2.0
PRODID:-//Kwataqnuk - ECPv6.15.20//NONSGML v1.0//EN
CALSCALE:GREGORIAN
METHOD:PUBLISH
X-ORIGINAL-URL:https://kwataqnuk.com
X-WR-CALDESC:Events for Kwataqnuk
REFRESH-INTERVAL;VALUE=DURATION:PT1H
X-Robots-Tag:noindex
X-PUBLISHED-TTL:PT1H
BEGIN:VTIMEZONE
TZID:America/Denver
BEGIN:DAYLIGHT
TZOFFSETFROM:-0700
TZOFFSETTO:-0600
TZNAME:MDT
DTSTART:20230312T090000
END:DAYLIGHT
BEGIN:STANDARD
TZOFFSETFROM:-0600
TZOFFSETTO:-0700
TZNAME:MST
DTSTART:20231105T080000
END:STANDARD
BEGIN:DAYLIGHT
TZOFFSETFROM:-0700
TZOFFSETTO:-0600
TZNAME:MDT
DTSTART:20240310T090000
END:DAYLIGHT
BEGIN:STANDARD
TZOFFSETFROM:-0600
TZOFFSETTO:-0700
TZNAME:MST
DTSTART:20241103T080000
END:STANDARD
BEGIN:DAYLIGHT
TZOFFSETFROM:-0700
TZOFFSETTO:-0600
TZNAME:MDT
DTSTART:20250309T090000
END:DAYLIGHT
BEGIN:STANDARD
TZOFFSETFROM:-0600
TZOFFSETTO:-0700
TZNAME:MST
DTSTART:20251102T080000
END:STANDARD
END:VTIMEZONE
BEGIN:VEVENT
DTSTART;TZID=America/Denver:20241101T160000
DTEND;TZID=America/Denver:20241101T220000
DTSTAMP:20260419T065133
CREATED:20241028T153906Z
LAST-MODIFIED:20241029T171331Z
UID:33478-1730476800-1730498400@kwataqnuk.com
SUMMARY:Shake It Up
DESCRIPTION:Shake it up! Shake\, Rattle\, and Roll to Win up to $1\,200 in cash! Every Friday\, transform your points into cash rewards and take a chance to roll the dice for additional winnings. Here’s how you can join the fun and maximize your chances of winning: \n\n\nHow to Participate\n\n\nStart by earning entries through your gameplay. For every 250 points accumulated while actively playing a slot machine with your SKG Premier Rewards club card\, you gain an entry into the draw. The earning period continues throughout the month and concludes at 9:50 PM on Friday\, November 29. \n\n\nDrawing Details\n\n\nDrawing Schedule: One winner will be selected every other hour between 4:00 PM and 10:00 PM every Friday.\nEntry Process: Ensure to print your drawing entries and place them in the drawing barrel at least ten minutes before each draw begins.\nPrize Claiming: Winners have two minutes to report to the Player’s Club to claim their prize. If unclaimed\, another name will be drawn.\n\n\nDice Rolling and Prizes\n\n\nOnce selected\, winners will roll two dice in front of the Player’s Club. Each number rolled is multiplied by $100\, potentially adding up to $1\,200! For example\, rolling a 3 and a 4 would result in $700 in winnings. Dice rolls must bounce off the designated wall area to qualify. \n\n\nImportant Notes\n\n\nMultiple Wins: Patrons have the opportunity to win more than once during the event.\nEvent Conclusion: The drawing barrel will be emptied after the final drawing at 10:00 PM each Friday.\nFair Play: No setting of the dice is allowed\, ensuring a fair chance for all participants.\n\n\nDon’t miss out on an evening of games and prizes. Remember\, the more you play\, the higher your chances to shake\, rattle\, and roll your way to cash rewards! \n\n\nAdditional Information:\n\n\nFor more information about this promotion and other promotions and club member benefits\, call or visit our friendly Players Club team! \n\n\nExplore S&K Gaming\, LLC:\n\n\nS&K Gaming\, LLC oversees three establishments on the Flathead Indian Reservation! Kwataqnuk Resort & Casino\, Big Arm Resort & Casino\, and Gray Wolf Peak Casino each have something different to offer everyone! From million-dollar views of the pristine Flathead Lake and the Mission Mountains\, dining\, club member benefits\, golf\, gas\, a banquet hall for various events\, and the largest casino in Montana\, S&K Gaming\, LLC has you covered. \n\n\nLearn More:\n\n\nInterested in learning more about S&K Gaming\, LLC and our other locations? Visit our website at https://skgamingllc.com/.
URL:https://kwataqnuk.com/event/shake-it-up/
CATEGORIES:Promotion
ATTACH;FMTTYPE=image/jpeg:https://kwataqnuk.com/wp-content/uploads/2024/10/1124-KTN-ShakeUp-Web.jpg
END:VEVENT
BEGIN:VEVENT
DTSTART;TZID=America/Denver:20241106T090000
DTEND;TZID=America/Denver:20241106T170000
DTSTAMP:20260419T065133
CREATED:20241025T154147Z
LAST-MODIFIED:20241025T154147Z
UID:33470-1730883600-1730912400@kwataqnuk.com
SUMMARY:Forever Young - Kwataqnuk
DESCRIPTION:Forever Young – Kwataqnuk \nStay Forever Young at Kwataqnuk Resort & Casino! \nWe are calling all SKG Premier Rewards members ages 50 and older! Did you know that if you visit Kwataqnuk Resort & Casino on Wednesdays from 9am to 5pm and earn 50 points\, you can redeem a $10 food credit to Falling Waters Bar & Grill? It’s true! To earn points\, you just have to be carded in while playing! Have questions? Please\, stop in and visit our friendly players club representatives for details. If you are interested in viewing the Falling Waters Bar & Grill menu\, you can click this MENU LINK! \nBut wait! There’s more! You can also take advantage of this great offer at any of our S&K Gaming locations! That’s right\, you can earn 50 points at Big Arm Resort & Casino and at Gray Wolf Peak Casino to redeem a $10 dining credit to LASSAW SPORTS BAR or Big Arm Restuarant! \nStay Forever Young at Big Arm Resort & Casino on THURSDAYS! Big Arm Casino is open from 12:00pm to 10:00pm\, and the restaurant is open from 12:00pm to 9:00pm. Here is the current Big Arm Restaurant MENU. \nOr stay Forever Young at Gray Wolf Peak Casino on TUESDAYS! Gray Wolf Peak Casino’s operating hours are every day from 10:00am to 2:00am. Here is the current Lassaw Sports Bar MENU. \n 
URL:https://kwataqnuk.com/event/forever-young-kwataqnuk-28/
CATEGORIES:dining,Promotion
ATTACH;FMTTYPE=image/jpeg:https://kwataqnuk.com/wp-content/uploads/2024/07/824-KTN-ForeverYoung-1920x1080nt-Web-1.jpg
END:VEVENT
BEGIN:VEVENT
DTSTART;TZID=America/Denver:20241108T160000
DTEND;TZID=America/Denver:20241108T220000
DTSTAMP:20260419T065133
CREATED:20241028T162930Z
LAST-MODIFIED:20241029T171400Z
UID:33490-1731081600-1731103200@kwataqnuk.com
SUMMARY:Shake It Up
DESCRIPTION:Shake it up! Shake\, Rattle\, and Roll to Win up to $1\,200 in cash! Every Friday\, transform your points into cash rewards and take a chance to roll the dice for additional winnings. Here’s how you can join the fun and maximize your chances of winning: \n\n\nHow to Participate\n\n\nStart by earning entries through your gameplay. For every 250 points accumulated while actively playing a slot machine with your SKG Premier Rewards club card\, you gain an entry into the draw. The earning period continues throughout the month and concludes at 9:50 PM on Friday\, November 29. \n\n\nDrawing Details\n\n\nDrawing Schedule: One winner will be selected every other hour between 4:00 PM and 10:00 PM every Friday.\nEntry Process: Ensure to print your drawing entries and place them in the drawing barrel at least ten minutes before each draw begins.\nPrize Claiming: Winners have two minutes to report to the Player’s Club to claim their prize. If unclaimed\, another name will be drawn.\n\n\nDice Rolling and Prizes\n\n\nOnce selected\, winners will roll two dice in front of the Player’s Club. Each number rolled is multiplied by $100\, potentially adding up to $1\,200! For example\, rolling a 3 and a 4 would result in $700 in winnings. Dice rolls must bounce off the designated wall area to qualify. \n\n\nImportant Notes\n\n\nMultiple Wins: Patrons have the opportunity to win more than once during the event.\nEvent Conclusion: The drawing barrel will be emptied after the final drawing at 10:00 PM each Friday.\nFair Play: No setting of the dice is allowed\, ensuring a fair chance for all participants.\n\n\nDon’t miss out on an evening of games and prizes. Remember\, the more you play\, the higher your chances to shake\, rattle\, and roll your way to cash rewards! \n\n\nAdditional Information:\n\n\nFor more information about this promotion and other promotions and club member benefits\, call or visit our friendly Players Club team! \n\n\nExplore S&K Gaming\, LLC:\n\n\nS&K Gaming\, LLC oversees three establishments on the Flathead Indian Reservation! Kwataqnuk Resort & Casino\, Big Arm Resort & Casino\, and Gray Wolf Peak Casino each have something different to offer everyone! From million-dollar views of the pristine Flathead Lake and the Mission Mountains\, dining\, club member benefits\, golf\, gas\, a banquet hall for various events\, and the largest casino in Montana\, S&K Gaming\, LLC has you covered. \n\n\nLearn More:\n\n\nInterested in learning more about S&K Gaming\, LLC and our other locations? Visit our website at https://skgamingllc.com/.
URL:https://kwataqnuk.com/event/shake-it-up-2/
CATEGORIES:Promotion
ATTACH;FMTTYPE=image/jpeg:https://kwataqnuk.com/wp-content/uploads/2024/10/1124-KTN-ShakeUp-Web.jpg
END:VEVENT
BEGIN:VEVENT
DTSTART;TZID=America/Denver:20241113T090000
DTEND;TZID=America/Denver:20241113T170000
DTSTAMP:20260419T065133
CREATED:20241025T154242Z
LAST-MODIFIED:20241025T154242Z
UID:33472-1731488400-1731517200@kwataqnuk.com
SUMMARY:Forever Young - Kwataqnuk
DESCRIPTION:Forever Young – Kwataqnuk \nStay Forever Young at Kwataqnuk Resort & Casino! \nWe are calling all SKG Premier Rewards members ages 50 and older! Did you know that if you visit Kwataqnuk Resort & Casino on Wednesdays from 9am to 5pm and earn 50 points\, you can redeem a $10 food credit to Falling Waters Bar & Grill? It’s true! To earn points\, you just have to be carded in while playing! Have questions? Please\, stop in and visit our friendly players club representatives for details. If you are interested in viewing the Falling Waters Bar & Grill menu\, you can click this MENU LINK! \nBut wait! There’s more! You can also take advantage of this great offer at any of our S&K Gaming locations! That’s right\, you can earn 50 points at Big Arm Resort & Casino and at Gray Wolf Peak Casino to redeem a $10 dining credit to LASSAW SPORTS BAR or Big Arm Restuarant! \nStay Forever Young at Big Arm Resort & Casino on THURSDAYS! Big Arm Casino is open from 12:00pm to 10:00pm\, and the restaurant is open from 12:00pm to 9:00pm. Here is the current Big Arm Restaurant MENU. \nOr stay Forever Young at Gray Wolf Peak Casino on TUESDAYS! Gray Wolf Peak Casino’s operating hours are every day from 10:00am to 2:00am. Here is the current Lassaw Sports Bar MENU. \n 
URL:https://kwataqnuk.com/event/forever-young-kwataqnuk-29/
CATEGORIES:dining,Promotion
ATTACH;FMTTYPE=image/jpeg:https://kwataqnuk.com/wp-content/uploads/2024/07/824-KTN-ForeverYoung-1920x1080nt-Web-1.jpg
END:VEVENT
BEGIN:VEVENT
DTSTART;TZID=America/Denver:20241115T160000
DTEND;TZID=America/Denver:20241115T220000
DTSTAMP:20260419T065133
CREATED:20241028T162955Z
LAST-MODIFIED:20241029T171421Z
UID:33492-1731686400-1731708000@kwataqnuk.com
SUMMARY:Shake It Up
DESCRIPTION:Shake it up! Shake\, Rattle\, and Roll to Win up to $1\,200 in cash! Every Friday\, transform your points into cash rewards and take a chance to roll the dice for additional winnings. Here’s how you can join the fun and maximize your chances of winning: \n\n\nHow to Participate\n\n\nStart by earning entries through your gameplay. For every 250 points accumulated while actively playing a slot machine with your SKG Premier Rewards club card\, you gain an entry into the draw. The earning period continues throughout the month and concludes at 9:50 PM on Friday\, November 29. \n\n\nDrawing Details\n\n\nDrawing Schedule: One winner will be selected every other hour between 4:00 PM and 10:00 PM every Friday.\nEntry Process: Ensure to print your drawing entries and place them in the drawing barrel at least ten minutes before each draw begins.\nPrize Claiming: Winners have two minutes to report to the Player’s Club to claim their prize. If unclaimed\, another name will be drawn.\n\n\nDice Rolling and Prizes\n\n\nOnce selected\, winners will roll two dice in front of the Player’s Club. Each number rolled is multiplied by $100\, potentially adding up to $1\,200! For example\, rolling a 3 and a 4 would result in $700 in winnings. Dice rolls must bounce off the designated wall area to qualify. \n\n\nImportant Notes\n\n\nMultiple Wins: Patrons have the opportunity to win more than once during the event.\nEvent Conclusion: The drawing barrel will be emptied after the final drawing at 10:00 PM each Friday.\nFair Play: No setting of the dice is allowed\, ensuring a fair chance for all participants.\n\n\nDon’t miss out on an evening of games and prizes. Remember\, the more you play\, the higher your chances to shake\, rattle\, and roll your way to cash rewards! \n\n\nAdditional Information:\n\n\nFor more information about this promotion and other promotions and club member benefits\, call or visit our friendly Players Club team! \n\n\nExplore S&K Gaming\, LLC:\n\n\nS&K Gaming\, LLC oversees three establishments on the Flathead Indian Reservation! Kwataqnuk Resort & Casino\, Big Arm Resort & Casino\, and Gray Wolf Peak Casino each have something different to offer everyone! From million-dollar views of the pristine Flathead Lake and the Mission Mountains\, dining\, club member benefits\, golf\, gas\, a banquet hall for various events\, and the largest casino in Montana\, S&K Gaming\, LLC has you covered. \n\n\nLearn More:\n\n\nInterested in learning more about S&K Gaming\, LLC and our other locations? Visit our website at https://skgamingllc.com/.
URL:https://kwataqnuk.com/event/shake-it-up-3/
CATEGORIES:Promotion
ATTACH;FMTTYPE=image/jpeg:https://kwataqnuk.com/wp-content/uploads/2024/10/1124-KTN-ShakeUp-Web.jpg
END:VEVENT
BEGIN:VEVENT
DTSTART;TZID=America/Denver:20241120T090000
DTEND;TZID=America/Denver:20241120T170000
DTSTAMP:20260419T065133
CREATED:20241025T154315Z
LAST-MODIFIED:20241025T154315Z
UID:33474-1732093200-1732122000@kwataqnuk.com
SUMMARY:Forever Young - Kwataqnuk
DESCRIPTION:Forever Young – Kwataqnuk \nStay Forever Young at Kwataqnuk Resort & Casino! \nWe are calling all SKG Premier Rewards members ages 50 and older! Did you know that if you visit Kwataqnuk Resort & Casino on Wednesdays from 9am to 5pm and earn 50 points\, you can redeem a $10 food credit to Falling Waters Bar & Grill? It’s true! To earn points\, you just have to be carded in while playing! Have questions? Please\, stop in and visit our friendly players club representatives for details. If you are interested in viewing the Falling Waters Bar & Grill menu\, you can click this MENU LINK! \nBut wait! There’s more! You can also take advantage of this great offer at any of our S&K Gaming locations! That’s right\, you can earn 50 points at Big Arm Resort & Casino and at Gray Wolf Peak Casino to redeem a $10 dining credit to LASSAW SPORTS BAR or Big Arm Restuarant! \nStay Forever Young at Big Arm Resort & Casino on THURSDAYS! Big Arm Casino is open from 12:00pm to 10:00pm\, and the restaurant is open from 12:00pm to 9:00pm. Here is the current Big Arm Restaurant MENU. \nOr stay Forever Young at Gray Wolf Peak Casino on TUESDAYS! Gray Wolf Peak Casino’s operating hours are every day from 10:00am to 2:00am. Here is the current Lassaw Sports Bar MENU. \n 
URL:https://kwataqnuk.com/event/forever-young-kwataqnuk-30/
CATEGORIES:dining,Promotion
ATTACH;FMTTYPE=image/jpeg:https://kwataqnuk.com/wp-content/uploads/2024/07/824-KTN-ForeverYoung-1920x1080nt-Web-1.jpg
END:VEVENT
BEGIN:VEVENT
DTSTART;TZID=America/Denver:20241122T160000
DTEND;TZID=America/Denver:20241122T220000
DTSTAMP:20260419T065133
CREATED:20241028T163016Z
LAST-MODIFIED:20241029T171520Z
UID:33494-1732291200-1732312800@kwataqnuk.com
SUMMARY:Shake It Up
DESCRIPTION:Shake it up! Shake\, Rattle\, and Roll to Win up to $1\,200 in cash! Every Friday\, transform your points into cash rewards and take a chance to roll the dice for additional winnings. Here’s how you can join the fun and maximize your chances of winning: \n\n\nHow to Participate\n\n\nStart by earning entries through your gameplay. For every 250 points accumulated while actively playing a slot machine with your SKG Premier Rewards club card\, you gain an entry into the draw. The earning period continues throughout the month and concludes at 9:50 PM on Friday\, November 29. \n\n\nDrawing Details\n\n\nDrawing Schedule: One winner will be selected every other hour between 4:00 PM and 10:00 PM every Friday.\nEntry Process: Ensure to print your drawing entries and place them in the drawing barrel at least ten minutes before each draw begins.\nPrize Claiming: Winners have two minutes to report to the Player’s Club to claim their prize. If unclaimed\, another name will be drawn.\n\n\nDice Rolling and Prizes\n\n\nOnce selected\, winners will roll two dice in front of the Player’s Club. Each number rolled is multiplied by $100\, potentially adding up to $1\,200! For example\, rolling a 3 and a 4 would result in $700 in winnings. Dice rolls must bounce off the designated wall area to qualify. \n\n\nImportant Notes\n\n\nMultiple Wins: Patrons have the opportunity to win more than once during the event.\nEvent Conclusion: The drawing barrel will be emptied after the final drawing at 10:00 PM each Friday.\nFair Play: No setting of the dice is allowed\, ensuring a fair chance for all participants.\n\n\nDon’t miss out on an evening of games and prizes. Remember\, the more you play\, the higher your chances to shake\, rattle\, and roll your way to cash rewards! \n\n\nAdditional Information:\n\n\nFor more information about this promotion and other promotions and club member benefits\, call or visit our friendly Players Club team! \n\n\nExplore S&K Gaming\, LLC:\n\n\nS&K Gaming\, LLC oversees three establishments on the Flathead Indian Reservation! Kwataqnuk Resort & Casino\, Big Arm Resort & Casino\, and Gray Wolf Peak Casino each have something different to offer everyone! From million-dollar views of the pristine Flathead Lake and the Mission Mountains\, dining\, club member benefits\, golf\, gas\, a banquet hall for various events\, and the largest casino in Montana\, S&K Gaming\, LLC has you covered. \n\n\nLearn More:\n\n\nInterested in learning more about S&K Gaming\, LLC and our other locations? Visit our website at https://skgamingllc.com/.
URL:https://kwataqnuk.com/event/shake-it-up-4/
CATEGORIES:Promotion
ATTACH;FMTTYPE=image/jpeg:https://kwataqnuk.com/wp-content/uploads/2024/10/1124-KTN-ShakeUp-Web.jpg
END:VEVENT
BEGIN:VEVENT
DTSTART;TZID=America/Denver:20241127T090000
DTEND;TZID=America/Denver:20241127T170000
DTSTAMP:20260419T065133
CREATED:20241025T154351Z
LAST-MODIFIED:20241025T154351Z
UID:33476-1732698000-1732726800@kwataqnuk.com
SUMMARY:Forever Young - Kwataqnuk
DESCRIPTION:Forever Young – Kwataqnuk \nStay Forever Young at Kwataqnuk Resort & Casino! \nWe are calling all SKG Premier Rewards members ages 50 and older! Did you know that if you visit Kwataqnuk Resort & Casino on Wednesdays from 9am to 5pm and earn 50 points\, you can redeem a $10 food credit to Falling Waters Bar & Grill? It’s true! To earn points\, you just have to be carded in while playing! Have questions? Please\, stop in and visit our friendly players club representatives for details. If you are interested in viewing the Falling Waters Bar & Grill menu\, you can click this MENU LINK! \nBut wait! There’s more! You can also take advantage of this great offer at any of our S&K Gaming locations! That’s right\, you can earn 50 points at Big Arm Resort & Casino and at Gray Wolf Peak Casino to redeem a $10 dining credit to LASSAW SPORTS BAR or Big Arm Restuarant! \nStay Forever Young at Big Arm Resort & Casino on THURSDAYS! Big Arm Casino is open from 12:00pm to 10:00pm\, and the restaurant is open from 12:00pm to 9:00pm. Here is the current Big Arm Restaurant MENU. \nOr stay Forever Young at Gray Wolf Peak Casino on TUESDAYS! Gray Wolf Peak Casino’s operating hours are every day from 10:00am to 2:00am. Here is the current Lassaw Sports Bar MENU. \n 
URL:https://kwataqnuk.com/event/forever-young-kwataqnuk-31/
CATEGORIES:dining,Promotion
ATTACH;FMTTYPE=image/jpeg:https://kwataqnuk.com/wp-content/uploads/2024/07/824-KTN-ForeverYoung-1920x1080nt-Web-1.jpg
END:VEVENT
BEGIN:VEVENT
DTSTART;TZID=America/Denver:20241129T160000
DTEND;TZID=America/Denver:20241129T220000
DTSTAMP:20260419T065133
CREATED:20241028T163033Z
LAST-MODIFIED:20241029T171543Z
UID:33496-1732896000-1732917600@kwataqnuk.com
SUMMARY:Shake It Up
DESCRIPTION:Shake it up! Shake\, Rattle\, and Roll to Win up to $1\,200 in cash! Every Friday\, transform your points into cash rewards and take a chance to roll the dice for additional winnings. Here’s how you can join the fun and maximize your chances of winning: \n\n\nHow to Participate\n\n\nStart by earning entries through your gameplay. For every 250 points accumulated while actively playing a slot machine with your SKG Premier Rewards club card\, you gain an entry into the draw. The earning period continues throughout the month and concludes at 9:50 PM on Friday\, November 29. \n\n\nDrawing Details\n\n\nDrawing Schedule: One winner will be selected every other hour between 4:00 PM and 10:00 PM every Friday.\nEntry Process: Ensure to print your drawing entries and place them in the drawing barrel at least ten minutes before each draw begins.\nPrize Claiming: Winners have two minutes to report to the Player’s Club to claim their prize. If unclaimed\, another name will be drawn.\n\n\nDice Rolling and Prizes\n\n\nOnce selected\, winners will roll two dice in front of the Player’s Club. Each number rolled is multiplied by $100\, potentially adding up to $1\,200! For example\, rolling a 3 and a 4 would result in $700 in winnings. Dice rolls must bounce off the designated wall area to qualify. \n\n\nImportant Notes\n\n\nMultiple Wins: Patrons have the opportunity to win more than once during the event.\nEvent Conclusion: The drawing barrel will be emptied after the final drawing at 10:00 PM each Friday.\nFair Play: No setting of the dice is allowed\, ensuring a fair chance for all participants.\n\n\nDon’t miss out on an evening of games and prizes. Remember\, the more you play\, the higher your chances to shake\, rattle\, and roll your way to cash rewards! \n\n\nAdditional Information:\n\n\nFor more information about this promotion and other promotions and club member benefits\, call or visit our friendly Players Club team! \n\n\nExplore S&K Gaming\, LLC:\n\n\nS&K Gaming\, LLC oversees three establishments on the Flathead Indian Reservation! Kwataqnuk Resort & Casino\, Big Arm Resort & Casino\, and Gray Wolf Peak Casino each have something different to offer everyone! From million-dollar views of the pristine Flathead Lake and the Mission Mountains\, dining\, club member benefits\, golf\, gas\, a banquet hall for various events\, and the largest casino in Montana\, S&K Gaming\, LLC has you covered. \n\n\nLearn More:\n\n\nInterested in learning more about S&K Gaming\, LLC and our other locations? Visit our website at https://skgamingllc.com/.
URL:https://kwataqnuk.com/event/shake-it-up-5/
CATEGORIES:Promotion
ATTACH;FMTTYPE=image/jpeg:https://kwataqnuk.com/wp-content/uploads/2024/10/1124-KTN-ShakeUp-Web.jpg
END:VEVENT
END:VCALENDAR