BEGIN:VCALENDAR
VERSION:2.0
PRODID:-//Kwataqnuk - ECPv6.15.20//NONSGML v1.0//EN
CALSCALE:GREGORIAN
METHOD:PUBLISH
X-ORIGINAL-URL:https://kwataqnuk.com
X-WR-CALDESC:Events for Kwataqnuk
REFRESH-INTERVAL;VALUE=DURATION:PT1H
X-Robots-Tag:noindex
X-PUBLISHED-TTL:PT1H
BEGIN:VTIMEZONE
TZID:America/Denver
BEGIN:DAYLIGHT
TZOFFSETFROM:-0700
TZOFFSETTO:-0600
TZNAME:MDT
DTSTART:20230312T090000
END:DAYLIGHT
BEGIN:STANDARD
TZOFFSETFROM:-0600
TZOFFSETTO:-0700
TZNAME:MST
DTSTART:20231105T080000
END:STANDARD
BEGIN:DAYLIGHT
TZOFFSETFROM:-0700
TZOFFSETTO:-0600
TZNAME:MDT
DTSTART:20240310T090000
END:DAYLIGHT
BEGIN:STANDARD
TZOFFSETFROM:-0600
TZOFFSETTO:-0700
TZNAME:MST
DTSTART:20241103T080000
END:STANDARD
BEGIN:DAYLIGHT
TZOFFSETFROM:-0700
TZOFFSETTO:-0600
TZNAME:MDT
DTSTART:20250309T090000
END:DAYLIGHT
BEGIN:STANDARD
TZOFFSETFROM:-0600
TZOFFSETTO:-0700
TZNAME:MST
DTSTART:20251102T080000
END:STANDARD
END:VTIMEZONE
BEGIN:VEVENT
DTSTART;TZID=America/Denver:20241102T100000
DTEND;TZID=America/Denver:20241102T160000
DTSTAMP:20260424T041552
CREATED:20240927T163430Z
LAST-MODIFIED:20240927T163430Z
UID:33390-1730541600-1730563200@kwataqnuk.com
SUMMARY:Kwataqnuk Annual Holiday Bazaar
DESCRIPTION:Kwataqnuk Annual Holiday Bazaar\n\n\nJoin us for the highly anticipated Kwataqnuk Annual Holiday Bazaar. This festive event promises to be an eventful experience for all attendees\, featuring a variety of vendors\, unique gifts\, and holiday cheer. Get ready to mark your calendars and secure your spot today! \n\n\nEvent Dates and Times\n\n\nFriday\, November 1st\, 2024: 4:00 PM – 9:00 PM\nSaturday\, November 2nd\, 2024: 10:00 AM – 6:00 PM\nSunday\, November 3rd\, 2024: 10:00 AM – 4:00 PM\n\n\nVendor Costs\n\n\nBooth for all 3 days: $50\n\nIncludes (1) 6ft table\, 2 chairs\, and a tablecloth\n\n\nPower Fee: $10\nAdditional Table: $20\nAdditional tables after the second: $10 per table\n\n\nVendor Schedule Information\n\n\nFriday\, November 1st\, 2024:\n\nVendor Setup: 12:00 PM – 4:00 PM\nEvent: 4:00 PM – 9:00 PM\n\n\nSaturday\, November 2nd\, 2024:\n\nEvent: 10:00 AM – 6:00 PM\n\n\nSunday\, November 3rd\, 2024:\n\nEvent: 10:00 AM – 4:00 PM\nBreakdown: 4:00 PM – 5:00 PM\n\n\n\n\nSecure Your Spot!\n\n\nTo participate as a vendor\, complete the registration form available here and submit it along with your payment to Vicki Kizer\, Falling Water’s Food and Beverage Manager. \n\n\nContact Information\n\n\nFor any questions or further information\, please call 406-883-3636 Ext. 405. \n\n\nDon’t miss out on this opportunity to showcase your products and get into the holiday spirit at the Kwataqnuk Annual Holiday Bazaar. We look forward to seeing you there! \n\nExplore S&K Gaming\, LLC\n\n\nS&K Gaming\, LLC oversees three establishments on the Flathead Indian Reservation! Kwataqnuk Resort & Casino\, Big Arm Resort & Casino\, and Gray Wolf Peak Casino each have something different to offer everyone! From million-dollar views of the pristine Flathead Lake and the Mission Mountains\, dining\, club member benefits\, golf\, gas\, a banquet hall for various events\, and the largest casino in Montana\, S&K Gaming\, LLC has you covered. \n\n\nLearn More\n\n\nInterested in learning more about S&K Gaming\, LLC and our other locations? Visit our website at https://skgamingllc.com/.
URL:https://kwataqnuk.com/event/kwataqnuk-annual-holiday-bazaar-3/
LOCATION:KWATAQNUK RESORT & CASINO\, 49708 US-93\, POLSON\, MT\, 59860\, United States
CATEGORIES:Banquet,event
ATTACH;FMTTYPE=image/jpeg:https://kwataqnuk.com/wp-content/uploads/2024/09/VictoriaMichel_SKGamingLLC_HolidayBazaar-webtv-2.jpg
END:VEVENT
BEGIN:VEVENT
DTSTART;TZID=America/Denver:20241102T100000
DTEND;TZID=America/Denver:20241102T180000
DTSTAMP:20260424T041552
CREATED:20240927T163357Z
LAST-MODIFIED:20240927T163357Z
UID:33388-1730541600-1730570400@kwataqnuk.com
SUMMARY:Kwataqnuk Annual Holiday Bazaar
DESCRIPTION:Kwataqnuk Annual Holiday Bazaar\n\n\nJoin us for the highly anticipated Kwataqnuk Annual Holiday Bazaar. This festive event promises to be an eventful experience for all attendees\, featuring a variety of vendors\, unique gifts\, and holiday cheer. Get ready to mark your calendars and secure your spot today! \n\n\nEvent Dates and Times\n\n\nFriday\, November 1st\, 2024: 4:00 PM – 9:00 PM\nSaturday\, November 2nd\, 2024: 10:00 AM – 6:00 PM\nSunday\, November 3rd\, 2024: 10:00 AM – 4:00 PM\n\n\nVendor Costs\n\n\nBooth for all 3 days: $50\n\nIncludes (1) 6ft table\, 2 chairs\, and a tablecloth\n\n\nPower Fee: $10\nAdditional Table: $20\nAdditional tables after the second: $10 per table\n\n\nVendor Schedule Information\n\n\nFriday\, November 1st\, 2024:\n\nVendor Setup: 12:00 PM – 4:00 PM\nEvent: 4:00 PM – 9:00 PM\n\n\nSaturday\, November 2nd\, 2024:\n\nEvent: 10:00 AM – 6:00 PM\n\n\nSunday\, November 3rd\, 2024:\n\nEvent: 10:00 AM – 4:00 PM\nBreakdown: 4:00 PM – 5:00 PM\n\n\n\n\nSecure Your Spot!\n\n\nTo participate as a vendor\, complete the registration form available here and submit it along with your payment to Vicki Kizer\, Falling Water’s Food and Beverage Manager. \n\n\nContact Information\n\n\nFor any questions or further information\, please call 406-883-3636 Ext. 405. \n\n\nDon’t miss out on this opportunity to showcase your products and get into the holiday spirit at the Kwataqnuk Annual Holiday Bazaar. We look forward to seeing you there! \n\nExplore S&K Gaming\, LLC\n\n\nS&K Gaming\, LLC oversees three establishments on the Flathead Indian Reservation! Kwataqnuk Resort & Casino\, Big Arm Resort & Casino\, and Gray Wolf Peak Casino each have something different to offer everyone! From million-dollar views of the pristine Flathead Lake and the Mission Mountains\, dining\, club member benefits\, golf\, gas\, a banquet hall for various events\, and the largest casino in Montana\, S&K Gaming\, LLC has you covered. \n\n\nLearn More\n\n\nInterested in learning more about S&K Gaming\, LLC and our other locations? Visit our website at https://skgamingllc.com/.
URL:https://kwataqnuk.com/event/kwataqnuk-annual-holiday-bazaar-2/
LOCATION:KWATAQNUK RESORT & CASINO\, 49708 US-93\, POLSON\, MT\, 59860\, United States
CATEGORIES:Banquet,event
ATTACH;FMTTYPE=image/jpeg:https://kwataqnuk.com/wp-content/uploads/2024/09/VictoriaMichel_SKGamingLLC_HolidayBazaar-webtv-2.jpg
END:VEVENT
END:VCALENDAR