BEGIN:VCALENDAR
VERSION:2.0
PRODID:-//Kwataqnuk - ECPv6.15.20//NONSGML v1.0//EN
CALSCALE:GREGORIAN
METHOD:PUBLISH
X-ORIGINAL-URL:https://kwataqnuk.com
X-WR-CALDESC:Events for Kwataqnuk
REFRESH-INTERVAL;VALUE=DURATION:PT1H
X-Robots-Tag:noindex
X-PUBLISHED-TTL:PT1H
BEGIN:VTIMEZONE
TZID:America/Denver
BEGIN:DAYLIGHT
TZOFFSETFROM:-0700
TZOFFSETTO:-0600
TZNAME:MDT
DTSTART:20240310T090000
END:DAYLIGHT
BEGIN:STANDARD
TZOFFSETFROM:-0600
TZOFFSETTO:-0700
TZNAME:MST
DTSTART:20241103T080000
END:STANDARD
BEGIN:DAYLIGHT
TZOFFSETFROM:-0700
TZOFFSETTO:-0600
TZNAME:MDT
DTSTART:20250309T090000
END:DAYLIGHT
BEGIN:STANDARD
TZOFFSETFROM:-0600
TZOFFSETTO:-0700
TZNAME:MST
DTSTART:20251102T080000
END:STANDARD
BEGIN:DAYLIGHT
TZOFFSETFROM:-0700
TZOFFSETTO:-0600
TZNAME:MDT
DTSTART:20260308T090000
END:DAYLIGHT
BEGIN:STANDARD
TZOFFSETFROM:-0600
TZOFFSETTO:-0700
TZNAME:MST
DTSTART:20261101T080000
END:STANDARD
END:VTIMEZONE
BEGIN:VEVENT
DTSTART;TZID=America/Denver:20251022T100000
DTEND;TZID=America/Denver:20251022T130000
DTSTAMP:20260419T170313
CREATED:20250923T143502Z
LAST-MODIFIED:20250923T143503Z
UID:34089-1761127200-1761138000@kwataqnuk.com
SUMMARY:Tribal Elders Luncheon
DESCRIPTION:Tribal Elders Luncheon – We appreciate our Tribal Elders! Offer: $10 Xtra Credit for all attending CSKT Tribal Elders 55+. The Elder will receive lunch\, a gift\, and a $10 Xtra Credit offer for the day valid at Big Arm or Kwataqnuk. \nDates and Times of Promotion: \n• Event Date: Wednesday\, October 22\, 2026\n• Event Time: Doors 10:30 AM\, Seating 11:00 AM\, Lunch 12:00 PM \nPromotional Eligibility Requirements: \nA. CSKT Elder’s 55+ who are registered for the Tribal Elders Luncheon.\nB. Must be a SKG Premier Rewards Club member with proper photo ID to redeem the $10 Xtra Credit offer.\nC. Registered Elders will receive a $10 Xtra Credit voucher that may be redeemed at the players club on the same day of issuance.\nD. Registered elders will receive a gift at the start of the event.\nE. Offer(s) valid one time\, per person.\nF. Xtra Credit is valid 24 hours after issuance.
URL:https://kwataqnuk.com/event/tribal-elders-luncheon/
CATEGORIES:Banquet,event
ATTACH;FMTTYPE=image/jpeg:https://kwataqnuk.com/wp-content/uploads/2025/09/ktn-tribalelderslunch-1920x1080-1.jpg
END:VEVENT
END:VCALENDAR