BEGIN:VCALENDAR
VERSION:2.0
PRODID:-//Kwataqnuk - ECPv6.15.20//NONSGML v1.0//EN
CALSCALE:GREGORIAN
METHOD:PUBLISH
X-ORIGINAL-URL:https://kwataqnuk.com
X-WR-CALDESC:Events for Kwataqnuk
REFRESH-INTERVAL;VALUE=DURATION:PT1H
X-Robots-Tag:noindex
X-PUBLISHED-TTL:PT1H
BEGIN:VTIMEZONE
TZID:America/Denver
BEGIN:DAYLIGHT
TZOFFSETFROM:-0700
TZOFFSETTO:-0600
TZNAME:MDT
DTSTART:20230312T090000
END:DAYLIGHT
BEGIN:STANDARD
TZOFFSETFROM:-0600
TZOFFSETTO:-0700
TZNAME:MST
DTSTART:20231105T080000
END:STANDARD
BEGIN:DAYLIGHT
TZOFFSETFROM:-0700
TZOFFSETTO:-0600
TZNAME:MDT
DTSTART:20240310T090000
END:DAYLIGHT
BEGIN:STANDARD
TZOFFSETFROM:-0600
TZOFFSETTO:-0700
TZNAME:MST
DTSTART:20241103T080000
END:STANDARD
BEGIN:DAYLIGHT
TZOFFSETFROM:-0700
TZOFFSETTO:-0600
TZNAME:MDT
DTSTART:20250309T090000
END:DAYLIGHT
BEGIN:STANDARD
TZOFFSETFROM:-0600
TZOFFSETTO:-0700
TZNAME:MST
DTSTART:20251102T080000
END:STANDARD
END:VTIMEZONE
BEGIN:VEVENT
DTSTART;TZID=America/Denver:20241111T080000
DTEND;TZID=America/Denver:20241111T233000
DTSTAMP:20260421T041303
CREATED:20241028T190453Z
LAST-MODIFIED:20241028T190453Z
UID:33500-1731312000-1731367800@kwataqnuk.com
SUMMARY:Veterans Appreciation Day
DESCRIPTION:Veterans Appreciation Day Xtra Credit Offer – To honor our veterans\, we invite all military service members to enjoy a special offer on Monday\, November 11th. We show our appreciation by offering $10 in Xtra Credit\, available exclusively for this day from open to close. Veterans deserve our gratitude\, and this offer is a small token of appreciation for all you do! \n\n\nEligibility Requirements\n\n\nMembership: You must be an SKG Premier Rewards member.\nIdentification: Present a proper photo ID along with military service identification such as a veteran designation on your driver’s license\, military ID\, or DD214.\nRedemption: This offer is valid once per person.\n\n\nImportant Details\n\n\nValidity: The Xtra Credit is valid for 24 hours after issuance.\n\n\nJoin us in celebrating the contributions of our veterans with this exclusive offer. Thank you for your service and dedication! \n\nAdditional Information\n\n\nFor more information about this promotion and other promotions and club member benefits\, call or visit our friendly Players Club team! \n\n\nExplore S&K Gaming\, LLC\n\n\nS&K Gaming\, LLC oversees three establishments on the Flathead Indian Reservation! Kwataqnuk Resort & Casino\, Big Arm Resort & Casino\, and Gray Wolf Peak Casino each have something different to offer everyone! From million-dollar views of the pristine Flathead Lake and the Mission Mountains\, dining\, club member benefits\, golf\, gas\, a banquet hall for various events\, and the largest casino in Montana\, S&K Gaming\, LLC has you covered. \n\n\nLearn More\n\n\nInterested in learning more about S&K Gaming\, LLC and our other locations? Visit our website at https://skgamingllc.com/.
URL:https://kwataqnuk.com/event/veterans-appreciation-day/
CATEGORIES:Promotion
ATTACH;FMTTYPE=image/jpeg:https://kwataqnuk.com/wp-content/uploads/2024/10/1124-All-VeteransDay-Web.jpg
END:VEVENT
END:VCALENDAR