BEGIN:VCALENDAR
VERSION:2.0
PRODID:-//Kwataqnuk - ECPv6.15.20//NONSGML v1.0//EN
CALSCALE:GREGORIAN
METHOD:PUBLISH
X-WR-CALNAME:Kwataqnuk
X-ORIGINAL-URL:https://kwataqnuk.com
X-WR-CALDESC:Events for Kwataqnuk
REFRESH-INTERVAL;VALUE=DURATION:PT1H
X-Robots-Tag:noindex
X-PUBLISHED-TTL:PT1H
BEGIN:VTIMEZONE
TZID:America/Denver
BEGIN:DAYLIGHT
TZOFFSETFROM:-0700
TZOFFSETTO:-0600
TZNAME:MDT
DTSTART:20250309T090000
END:DAYLIGHT
BEGIN:STANDARD
TZOFFSETFROM:-0600
TZOFFSETTO:-0700
TZNAME:MST
DTSTART:20251102T080000
END:STANDARD
BEGIN:DAYLIGHT
TZOFFSETFROM:-0700
TZOFFSETTO:-0600
TZNAME:MDT
DTSTART:20260308T090000
END:DAYLIGHT
BEGIN:STANDARD
TZOFFSETFROM:-0600
TZOFFSETTO:-0700
TZNAME:MST
DTSTART:20261101T080000
END:STANDARD
BEGIN:DAYLIGHT
TZOFFSETFROM:-0700
TZOFFSETTO:-0600
TZNAME:MDT
DTSTART:20270314T090000
END:DAYLIGHT
BEGIN:STANDARD
TZOFFSETFROM:-0600
TZOFFSETTO:-0700
TZNAME:MST
DTSTART:20271107T080000
END:STANDARD
END:VTIMEZONE
BEGIN:VEVENT
DTSTART;TZID=America/Denver:20260213T080000
DTEND;TZID=America/Denver:20260214T170000
DTSTAMP:20260419T095238
CREATED:20260205T170913Z
LAST-MODIFIED:20260205T170915Z
UID:34301-1770969600-1771088400@kwataqnuk.com
SUMMARY:Kwataqnuk Resort & Casino Valentine Package
DESCRIPTION:Kwataqnuk Resort & Casino Valentine Package!  \nThis Valentine’s Day\, treat your loved one to a romantic evening! Take advantage of our exclusive hotel specials!\n406-883-3636\n\n\n\n\n\nKwataqnuk Resort & Casino Valentine Package 406-883-3636\nAvailable: February 13th & 14th ONLY\nOne standard room for one night\nOur Valentine’s Day dinner special (must RSVP)\nA bottle of champagne\n$50 extra credit\n\n\n\nBook your romantic getaway today! Reserve now and let us take care of the rest.  406-883-3636\n\n\n#valentinesday #dinnerspecials #hotelspecials #plannow #rsvp #polsonevents #valentinesday2026 #valentinesdayinpolsonmt #flatheadlakelodging #xtracredit #montanacasino #stayplaydine\n\n\n\n\nAdditional Information\n\n\nFor more information about this event and other events or promotions and club member benefits\, call or visit our friendly Players Club team! \n\n\nExplore S&K Gaming\, LLC\n\n\nS&K Gaming\, LLC oversees three establishments on the Flathead Indian Reservation! Kwataqnuk Resort & Casino\, Big Arm Resort & Casino\, and Gray Wolf Peak Casino each have something different to offer everyone! From million-dollar views of the pristine Flathead Lake and the Mission Mountains\, dining\, club member benefits\, golf\, gas\, a banquet hall for various events\, and the largest casino in Montana\, S&K Gaming\, LLC has you covered. \n\n\nLearn More\n\n\nInterested in learning more about S&K Gaming\, LLC and our other locations? Visit our website at https://skgamingllc.com/.
URL:https://kwataqnuk.com/event/kwataqnuk-resort-casino-valentine-package/
CATEGORIES:Hotel Special
ATTACH;FMTTYPE=image/jpeg:https://kwataqnuk.com/wp-content/uploads/2026/02/hotelspecials-feb-1920x1080-1.jpg
END:VEVENT
BEGIN:VEVENT
DTSTART;TZID=America/Denver:20260214T160000
DTEND;TZID=America/Denver:20260214T203000
DTSTAMP:20260419T095238
CREATED:20260205T164935Z
LAST-MODIFIED:20260205T164937Z
UID:34295-1771084800-1771101000@kwataqnuk.com
SUMMARY:Valentine's Day Dinner at Falling Waters
DESCRIPTION:Book your special Valentine’s Day Dinner at Falling Waters Bar & Grill! \n\nUnforgettable Valentine’s Day Celebrations Await! \nThis Valentine’s Day\, treat your loved one to a romantic evening! Take advantage of our exclusive hotel and dinner specials!\n406-883-3636\n\n\nValentine’s Day Dinner Specials  406-883-3636\n\nIndulge in our special menu:\nHeart-Shaped Ribeye\nShrimp Scampi\nSalmon\nNew York Steaks\nEach entrée comes with your choice of baked or mashed potatoes\, a vegetable medley\, a fresh salad\, and a dinner roll.\n\n\n\nSweetheart Package  406-883-3636\nAvailable: Now until February 12th & February 15th-28th\nOne standard room\nA bottle of champagne in your room\n$50 extra credit for the casino\n\n\n\nValentine Package 406-883-3636\nAvailable: February 13th & 14th ONLY\nOne standard room for one night\nOur Valentine’s Day dinner special (must RSVP)\nA bottle of champagne\n$50 extra credit\n\n\n\nBook your Valentine’s Day Dinner at Falling Waters today! Reserve now and let us take care of the rest.  406-883-3636\n\n\n#valentinesday #dinnerspecials #hotelspecials #plannow #rsvp #polsonevents #valentinesday2026 #valentinesdayinpolsonmt #flatheadlakelodging #xtracredit #montanacasino #stayplaydine\n\n\nDo you have questions about this S&K Gaming\, LLC event or other inquiries? Visit our friendly Players Club staff or call 406-883-3636.
URL:https://kwataqnuk.com/event/valentines-day-dinner-at-falling-waters/
CATEGORIES:dining,event
ATTACH;FMTTYPE=image/jpeg:https://kwataqnuk.com/wp-content/uploads/2026/02/fw-valentinesmenu-1920x1080-1.jpg
END:VEVENT
END:VCALENDAR