BEGIN:VCALENDAR
VERSION:2.0
PRODID:-//Kwataqnuk - ECPv6.15.20//NONSGML v1.0//EN
CALSCALE:GREGORIAN
METHOD:PUBLISH
X-WR-CALNAME:Kwataqnuk
X-ORIGINAL-URL:https://kwataqnuk.com
X-WR-CALDESC:Events for Kwataqnuk
REFRESH-INTERVAL;VALUE=DURATION:PT1H
X-Robots-Tag:noindex
X-PUBLISHED-TTL:PT1H
BEGIN:VTIMEZONE
TZID:America/Denver
BEGIN:DAYLIGHT
TZOFFSETFROM:-0700
TZOFFSETTO:-0600
TZNAME:MDT
DTSTART:20240310T090000
END:DAYLIGHT
BEGIN:STANDARD
TZOFFSETFROM:-0600
TZOFFSETTO:-0700
TZNAME:MST
DTSTART:20241103T080000
END:STANDARD
BEGIN:DAYLIGHT
TZOFFSETFROM:-0700
TZOFFSETTO:-0600
TZNAME:MDT
DTSTART:20250309T090000
END:DAYLIGHT
BEGIN:STANDARD
TZOFFSETFROM:-0600
TZOFFSETTO:-0700
TZNAME:MST
DTSTART:20251102T080000
END:STANDARD
BEGIN:DAYLIGHT
TZOFFSETFROM:-0700
TZOFFSETTO:-0600
TZNAME:MDT
DTSTART:20260308T090000
END:DAYLIGHT
BEGIN:STANDARD
TZOFFSETFROM:-0600
TZOFFSETTO:-0700
TZNAME:MST
DTSTART:20261101T080000
END:STANDARD
END:VTIMEZONE
BEGIN:VEVENT
DTSTART;TZID=America/Denver:20250303T100000
DTEND;TZID=America/Denver:20250303T170000
DTSTAMP:20260420T183134
CREATED:20250225T205945Z
LAST-MODIFIED:20250225T205945Z
UID:33779-1740996000-1741021200@kwataqnuk.com
SUMMARY:Hometown Heroes
DESCRIPTION:Honoring Hometown Heroes – Join us at Gray Wolf Peak Casino and Kwataqnuk Resort & Casino as we honor our Hometown Heroes\, including veterans and first responders. This offer takes place every Monday from 10 AM to 5 PM. As a participant\, you have the opportunity to choose your reward: $10 Xtra Credit\, $10 Dining Credit\, or $10 Drink Credit. To redeem your reward\, simply earn 25 points and visit the Players Club. Remember\, you can claim one reward per person per day. Celebrate with us and enjoy great rewards! \n\n\nPromotional Eligibility Requirements\n\n\nTo be eligible for this promotion\, you need to be an SKG Premier Rewards member with valid photo ID and military service identification or first responder identification. Here’s what you’ll need: \n\n\nVeterans: Accepted forms of identification include a Common Access Card\, Retired Military ID\, DD Form 2 Card or DD Form 214\, VFW\, AMVETS\, Vietnam Veterans of America Membership Card\, Disabled American Veterans Membership Card\, or a VA Identification Card.\nFirst Responders: You can present an Employee ID\, Accountability Tag\, or Medical License accompanied by a photo ID.\n\n\nEligible patrons must be actively playing a slot machine with a properly inserted SKG Premier Rewards club card during the promotional days and hours to accumulate points. Earn 25 points to select one of the following rewards: $10 Xtra Credit\, $10 Dining Credit\, or $10 Drink Credit. \n\n\nThis exclusive promotion is available only on Mondays between 10:00 AM and 5:00 PM. Please note that you can redeem this offer only once per person per day. To claim your Xtra Credit\, Drink Voucher\, or Dining Voucher\, ensure you visit the Players Club within the promotional timeframe. The Xtra Credit is valid for 24 hours after issuance and must be used at the location where the points were earned. \n\n\nCelebrate our heroes and enjoy the rewards at Gray Wolf Peak Casino and Kwataqnuk Resort & Casino! \n\nAdditional Information\n\n\nFor more information about this promotion and other promotions and club member benefits\, call or visit our friendly Players Club team! \n\n\nExplore S&K Gaming\, LLC\n\n\nS&K Gaming\, LLC oversees three establishments on the Flathead Indian Reservation! Kwataqnuk Resort & Casino\, Big Arm Resort & Casino\, and Gray Wolf Peak Casino each have something different to offer everyone! From million-dollar views of the pristine Flathead Lake and the Mission Mountains\, dining\, club member benefits\, golf\, gas\, a banquet hall for various events\, and the largest casino in Montana\, S&K Gaming\, LLC has you covered. \n\n\nLearn More\n\n\nInterested in learning more about S&K Gaming\, LLC and our other locations? Visit our website at https://skgamingllc.com/.
URL:https://kwataqnuk.com/event/hometown-heroes-18/
CATEGORIES:dining,Promotion
ATTACH;FMTTYPE=image/jpeg:https://kwataqnuk.com/wp-content/uploads/2024/12/hometownheroes-1920x1080-1.jpg
END:VEVENT
BEGIN:VEVENT
DTSTART;TZID=America/Denver:20250310T100000
DTEND;TZID=America/Denver:20250310T170000
DTSTAMP:20260420T183134
CREATED:20250225T210012Z
LAST-MODIFIED:20250225T210012Z
UID:33781-1741600800-1741626000@kwataqnuk.com
SUMMARY:Hometown Heroes
DESCRIPTION:Honoring Hometown Heroes – Join us at Gray Wolf Peak Casino and Kwataqnuk Resort & Casino as we honor our Hometown Heroes\, including veterans and first responders. This offer takes place every Monday from 10 AM to 5 PM. As a participant\, you have the opportunity to choose your reward: $10 Xtra Credit\, $10 Dining Credit\, or $10 Drink Credit. To redeem your reward\, simply earn 25 points and visit the Players Club. Remember\, you can claim one reward per person per day. Celebrate with us and enjoy great rewards! \n\n\nPromotional Eligibility Requirements\n\n\nTo be eligible for this promotion\, you need to be an SKG Premier Rewards member with valid photo ID and military service identification or first responder identification. Here’s what you’ll need: \n\n\nVeterans: Accepted forms of identification include a Common Access Card\, Retired Military ID\, DD Form 2 Card or DD Form 214\, VFW\, AMVETS\, Vietnam Veterans of America Membership Card\, Disabled American Veterans Membership Card\, or a VA Identification Card.\nFirst Responders: You can present an Employee ID\, Accountability Tag\, or Medical License accompanied by a photo ID.\n\n\nEligible patrons must be actively playing a slot machine with a properly inserted SKG Premier Rewards club card during the promotional days and hours to accumulate points. Earn 25 points to select one of the following rewards: $10 Xtra Credit\, $10 Dining Credit\, or $10 Drink Credit. \n\n\nThis exclusive promotion is available only on Mondays between 10:00 AM and 5:00 PM. Please note that you can redeem this offer only once per person per day. To claim your Xtra Credit\, Drink Voucher\, or Dining Voucher\, ensure you visit the Players Club within the promotional timeframe. The Xtra Credit is valid for 24 hours after issuance and must be used at the location where the points were earned. \n\n\nCelebrate our heroes and enjoy the rewards at Gray Wolf Peak Casino and Kwataqnuk Resort & Casino! \n\nAdditional Information\n\n\nFor more information about this promotion and other promotions and club member benefits\, call or visit our friendly Players Club team! \n\n\nExplore S&K Gaming\, LLC\n\n\nS&K Gaming\, LLC oversees three establishments on the Flathead Indian Reservation! Kwataqnuk Resort & Casino\, Big Arm Resort & Casino\, and Gray Wolf Peak Casino each have something different to offer everyone! From million-dollar views of the pristine Flathead Lake and the Mission Mountains\, dining\, club member benefits\, golf\, gas\, a banquet hall for various events\, and the largest casino in Montana\, S&K Gaming\, LLC has you covered. \n\n\nLearn More\n\n\nInterested in learning more about S&K Gaming\, LLC and our other locations? Visit our website at https://skgamingllc.com/.
URL:https://kwataqnuk.com/event/hometown-heroes-19/
CATEGORIES:dining,Promotion
ATTACH;FMTTYPE=image/jpeg:https://kwataqnuk.com/wp-content/uploads/2024/12/hometownheroes-1920x1080-1.jpg
END:VEVENT
BEGIN:VEVENT
DTSTART;TZID=America/Denver:20250317T100000
DTEND;TZID=America/Denver:20250317T170000
DTSTAMP:20260420T183134
CREATED:20250225T210054Z
LAST-MODIFIED:20250225T210054Z
UID:33783-1742205600-1742230800@kwataqnuk.com
SUMMARY:Hometown Heroes
DESCRIPTION:Honoring Hometown Heroes – Join us at Gray Wolf Peak Casino and Kwataqnuk Resort & Casino as we honor our Hometown Heroes\, including veterans and first responders. This offer takes place every Monday from 10 AM to 5 PM. As a participant\, you have the opportunity to choose your reward: $10 Xtra Credit\, $10 Dining Credit\, or $10 Drink Credit. To redeem your reward\, simply earn 25 points and visit the Players Club. Remember\, you can claim one reward per person per day. Celebrate with us and enjoy great rewards! \n\n\nPromotional Eligibility Requirements\n\n\nTo be eligible for this promotion\, you need to be an SKG Premier Rewards member with valid photo ID and military service identification or first responder identification. Here’s what you’ll need: \n\n\nVeterans: Accepted forms of identification include a Common Access Card\, Retired Military ID\, DD Form 2 Card or DD Form 214\, VFW\, AMVETS\, Vietnam Veterans of America Membership Card\, Disabled American Veterans Membership Card\, or a VA Identification Card.\nFirst Responders: You can present an Employee ID\, Accountability Tag\, or Medical License accompanied by a photo ID.\n\n\nEligible patrons must be actively playing a slot machine with a properly inserted SKG Premier Rewards club card during the promotional days and hours to accumulate points. Earn 25 points to select one of the following rewards: $10 Xtra Credit\, $10 Dining Credit\, or $10 Drink Credit. \n\n\nThis exclusive promotion is available only on Mondays between 10:00 AM and 5:00 PM. Please note that you can redeem this offer only once per person per day. To claim your Xtra Credit\, Drink Voucher\, or Dining Voucher\, ensure you visit the Players Club within the promotional timeframe. The Xtra Credit is valid for 24 hours after issuance and must be used at the location where the points were earned. \n\n\nCelebrate our heroes and enjoy the rewards at Gray Wolf Peak Casino and Kwataqnuk Resort & Casino! \n\nAdditional Information\n\n\nFor more information about this promotion and other promotions and club member benefits\, call or visit our friendly Players Club team! \n\n\nExplore S&K Gaming\, LLC\n\n\nS&K Gaming\, LLC oversees three establishments on the Flathead Indian Reservation! Kwataqnuk Resort & Casino\, Big Arm Resort & Casino\, and Gray Wolf Peak Casino each have something different to offer everyone! From million-dollar views of the pristine Flathead Lake and the Mission Mountains\, dining\, club member benefits\, golf\, gas\, a banquet hall for various events\, and the largest casino in Montana\, S&K Gaming\, LLC has you covered. \n\n\nLearn More\n\n\nInterested in learning more about S&K Gaming\, LLC and our other locations? Visit our website at https://skgamingllc.com/.
URL:https://kwataqnuk.com/event/hometown-heroes-20/
CATEGORIES:dining,Promotion
ATTACH;FMTTYPE=image/jpeg:https://kwataqnuk.com/wp-content/uploads/2024/12/hometownheroes-1920x1080-1.jpg
END:VEVENT
BEGIN:VEVENT
DTSTART;TZID=America/Denver:20250323T120000
DTEND;TZID=America/Denver:20250323T200000
DTSTAMP:20260420T183134
CREATED:20250228T213918Z
LAST-MODIFIED:20250228T214032Z
UID:33794-1742731200-1742760000@kwataqnuk.com
SUMMARY:$5000 Get the Green
DESCRIPTION:$5000 Get the Green: Your Chance to Win Big This March!\n\n\nMake your March a lucky one\, from March 1 to Sunday\, March 23\, seize the opportunity to claim a share of $5000 Get the Green and win cash. It’s simple: earn entries with every 200 points\, build them up\, and drop them in the barrel. Ensure you’re present on Sunday\, March 23 from noon to 8 PM for your chance to win! Remember\, it only takes one entry to walk away a winner. Unclaimed prizes will roll over into the 8 PM final drawing\, where cash awaits. Will you be the one to answer the call? \n\n\nImportant Event Details\n\n\nDates: March 1 to March 23\nFinal Drawing Day: Sunday\, March 23\nTime: Noon to 8 PM\n\n\nDrawing Schedule & Prizes\n\n\nTime | Amount \n\n\n12:00 PM | $1\,000\n2:00 PM | $1\,000\n4:00 PM | $1\,000\n6:00 PM | $1\,000\n8:00 PM | $1\,000\n\n\nPromotional Eligibility Requirements\n\n\nTo participate\, patrons must actively play a slot machine with a properly inserted SKG Premier Rewards club card during promotional days and hours. Here’s how to earn entries: \n\n\nEntry Earning: One drawing entry is earned for every 200 points.\nBonus Entries: Earn double entries every Monday\, Wednesday\, and Friday from March 3 to March 21.\nEntry Period: Earn entries daily from open to close\, beginning March 1 and ending at 7:40 PM on March 23.\nEntry Submission: Print and place your drawing entries in the barrel 20 minutes before each drawing.\n\n\nKey Rules\n\n\nWinners have two minutes to claim their prize at the Player’s Club. Failure to claim results in an addition to the Ineligible Players Log.\nUnclaimed prizes are added to the final drawing at 8 PM.\nA winner is selected every other hour\, with the final guaranteed winner drawn at 8 PM.\nMultiple wins are possible for patrons.\n\n\nCash is calling at Kwataqnuk’s “$5000 Get the Green!” Will you be the lucky winner? Join us in March and find out! \nAdditional Information\nFor more information about this promotion and other promotions and club member benefits\, call or visit our friendly Players Club team! \nExplore S&K Gaming\, LLC\nS&K Gaming\, LLC oversees three establishments on the Flathead Indian Reservation! Kwataqnuk Resort & Casino\, Big Arm Resort & Casino\, and Gray Wolf Peak Casino each have something different to offer everyone! From million-dollar views of the pristine Flathead Lake and the Mission Mountains\, dining\, club member benefits\, golf\, gas\, a banquet hall for various events\, and the largest casino in Montana\, S&K Gaming\, LLC has you covered. \nLearn More\nInterested in learning more about S&K Gaming\, LLC and our other locations? Visit our website at https://skgamingllc.com/.
URL:https://kwataqnuk.com/event/5000-get-the-green/
CATEGORIES:Promotion
ATTACH;FMTTYPE=image/jpeg:https://kwataqnuk.com/wp-content/uploads/2025/02/getthegreen-1920x1080-72dpi.jpg
END:VEVENT
BEGIN:VEVENT
DTSTART;TZID=America/Denver:20250324T100000
DTEND;TZID=America/Denver:20250324T170000
DTSTAMP:20260420T183134
CREATED:20250225T210116Z
LAST-MODIFIED:20250225T210116Z
UID:33785-1742810400-1742835600@kwataqnuk.com
SUMMARY:Hometown Heroes
DESCRIPTION:Honoring Hometown Heroes – Join us at Gray Wolf Peak Casino and Kwataqnuk Resort & Casino as we honor our Hometown Heroes\, including veterans and first responders. This offer takes place every Monday from 10 AM to 5 PM. As a participant\, you have the opportunity to choose your reward: $10 Xtra Credit\, $10 Dining Credit\, or $10 Drink Credit. To redeem your reward\, simply earn 25 points and visit the Players Club. Remember\, you can claim one reward per person per day. Celebrate with us and enjoy great rewards! \n\n\nPromotional Eligibility Requirements\n\n\nTo be eligible for this promotion\, you need to be an SKG Premier Rewards member with valid photo ID and military service identification or first responder identification. Here’s what you’ll need: \n\n\nVeterans: Accepted forms of identification include a Common Access Card\, Retired Military ID\, DD Form 2 Card or DD Form 214\, VFW\, AMVETS\, Vietnam Veterans of America Membership Card\, Disabled American Veterans Membership Card\, or a VA Identification Card.\nFirst Responders: You can present an Employee ID\, Accountability Tag\, or Medical License accompanied by a photo ID.\n\n\nEligible patrons must be actively playing a slot machine with a properly inserted SKG Premier Rewards club card during the promotional days and hours to accumulate points. Earn 25 points to select one of the following rewards: $10 Xtra Credit\, $10 Dining Credit\, or $10 Drink Credit. \n\n\nThis exclusive promotion is available only on Mondays between 10:00 AM and 5:00 PM. Please note that you can redeem this offer only once per person per day. To claim your Xtra Credit\, Drink Voucher\, or Dining Voucher\, ensure you visit the Players Club within the promotional timeframe. The Xtra Credit is valid for 24 hours after issuance and must be used at the location where the points were earned. \n\n\nCelebrate our heroes and enjoy the rewards at Gray Wolf Peak Casino and Kwataqnuk Resort & Casino! \n\nAdditional Information\n\n\nFor more information about this promotion and other promotions and club member benefits\, call or visit our friendly Players Club team! \n\n\nExplore S&K Gaming\, LLC\n\n\nS&K Gaming\, LLC oversees three establishments on the Flathead Indian Reservation! Kwataqnuk Resort & Casino\, Big Arm Resort & Casino\, and Gray Wolf Peak Casino each have something different to offer everyone! From million-dollar views of the pristine Flathead Lake and the Mission Mountains\, dining\, club member benefits\, golf\, gas\, a banquet hall for various events\, and the largest casino in Montana\, S&K Gaming\, LLC has you covered. \n\n\nLearn More\n\n\nInterested in learning more about S&K Gaming\, LLC and our other locations? Visit our website at https://skgamingllc.com/.
URL:https://kwataqnuk.com/event/hometown-heroes-21/
CATEGORIES:dining,Promotion
ATTACH;FMTTYPE=image/jpeg:https://kwataqnuk.com/wp-content/uploads/2024/12/hometownheroes-1920x1080-1.jpg
END:VEVENT
BEGIN:VEVENT
DTSTART;TZID=America/Denver:20250331T100000
DTEND;TZID=America/Denver:20250331T170000
DTSTAMP:20260420T183134
CREATED:20250225T210135Z
LAST-MODIFIED:20250225T210135Z
UID:33787-1743415200-1743440400@kwataqnuk.com
SUMMARY:Hometown Heroes
DESCRIPTION:Honoring Hometown Heroes – Join us at Gray Wolf Peak Casino and Kwataqnuk Resort & Casino as we honor our Hometown Heroes\, including veterans and first responders. This offer takes place every Monday from 10 AM to 5 PM. As a participant\, you have the opportunity to choose your reward: $10 Xtra Credit\, $10 Dining Credit\, or $10 Drink Credit. To redeem your reward\, simply earn 25 points and visit the Players Club. Remember\, you can claim one reward per person per day. Celebrate with us and enjoy great rewards! \n\n\nPromotional Eligibility Requirements\n\n\nTo be eligible for this promotion\, you need to be an SKG Premier Rewards member with valid photo ID and military service identification or first responder identification. Here’s what you’ll need: \n\n\nVeterans: Accepted forms of identification include a Common Access Card\, Retired Military ID\, DD Form 2 Card or DD Form 214\, VFW\, AMVETS\, Vietnam Veterans of America Membership Card\, Disabled American Veterans Membership Card\, or a VA Identification Card.\nFirst Responders: You can present an Employee ID\, Accountability Tag\, or Medical License accompanied by a photo ID.\n\n\nEligible patrons must be actively playing a slot machine with a properly inserted SKG Premier Rewards club card during the promotional days and hours to accumulate points. Earn 25 points to select one of the following rewards: $10 Xtra Credit\, $10 Dining Credit\, or $10 Drink Credit. \n\n\nThis exclusive promotion is available only on Mondays between 10:00 AM and 5:00 PM. Please note that you can redeem this offer only once per person per day. To claim your Xtra Credit\, Drink Voucher\, or Dining Voucher\, ensure you visit the Players Club within the promotional timeframe. The Xtra Credit is valid for 24 hours after issuance and must be used at the location where the points were earned. \n\n\nCelebrate our heroes and enjoy the rewards at Gray Wolf Peak Casino and Kwataqnuk Resort & Casino! \n\nAdditional Information\n\n\nFor more information about this promotion and other promotions and club member benefits\, call or visit our friendly Players Club team! \n\n\nExplore S&K Gaming\, LLC\n\n\nS&K Gaming\, LLC oversees three establishments on the Flathead Indian Reservation! Kwataqnuk Resort & Casino\, Big Arm Resort & Casino\, and Gray Wolf Peak Casino each have something different to offer everyone! From million-dollar views of the pristine Flathead Lake and the Mission Mountains\, dining\, club member benefits\, golf\, gas\, a banquet hall for various events\, and the largest casino in Montana\, S&K Gaming\, LLC has you covered. \n\n\nLearn More\n\n\nInterested in learning more about S&K Gaming\, LLC and our other locations? Visit our website at https://skgamingllc.com/.
URL:https://kwataqnuk.com/event/hometown-heroes-22/
CATEGORIES:dining,Promotion
ATTACH;FMTTYPE=image/jpeg:https://kwataqnuk.com/wp-content/uploads/2024/12/hometownheroes-1920x1080-1.jpg
END:VEVENT
END:VCALENDAR