BEGIN:VCALENDAR
VERSION:2.0
PRODID:-//Kwataqnuk - ECPv6.15.20//NONSGML v1.0//EN
CALSCALE:GREGORIAN
METHOD:PUBLISH
X-WR-CALNAME:Kwataqnuk
X-ORIGINAL-URL:https://kwataqnuk.com
X-WR-CALDESC:Events for Kwataqnuk
REFRESH-INTERVAL;VALUE=DURATION:PT1H
X-Robots-Tag:noindex
X-PUBLISHED-TTL:PT1H
BEGIN:VTIMEZONE
TZID:America/Denver
BEGIN:DAYLIGHT
TZOFFSETFROM:-0700
TZOFFSETTO:-0600
TZNAME:MDT
DTSTART:20230312T090000
END:DAYLIGHT
BEGIN:STANDARD
TZOFFSETFROM:-0600
TZOFFSETTO:-0700
TZNAME:MST
DTSTART:20231105T080000
END:STANDARD
BEGIN:DAYLIGHT
TZOFFSETFROM:-0700
TZOFFSETTO:-0600
TZNAME:MDT
DTSTART:20240310T090000
END:DAYLIGHT
BEGIN:STANDARD
TZOFFSETFROM:-0600
TZOFFSETTO:-0700
TZNAME:MST
DTSTART:20241103T080000
END:STANDARD
BEGIN:DAYLIGHT
TZOFFSETFROM:-0700
TZOFFSETTO:-0600
TZNAME:MDT
DTSTART:20250309T090000
END:DAYLIGHT
BEGIN:STANDARD
TZOFFSETFROM:-0600
TZOFFSETTO:-0700
TZNAME:MST
DTSTART:20251102T080000
END:STANDARD
END:VTIMEZONE
BEGIN:VEVENT
DTSTART;TZID=America/Denver:20240726T190000
DTEND;TZID=America/Denver:20240726T230000
DTSTAMP:20260419T200548
CREATED:20240624T155346Z
LAST-MODIFIED:20240624T155346Z
UID:33028-1722020400-1722034800@kwataqnuk.com
SUMMARY:Sink or Swim
DESCRIPTION:Sink or Swim\nPick your lifeline and float home with an extra $1\,000 Cash Fridays throughout July! Earn entries daily as drawings take place from 7:00pm-11:00pm on Fridays. Pick and reveal your potential prize and once you have matched three values/ icons\, collect and float to more big wins! Will you sink or swim? \n\nPatrons must be actively playing a slot machine with a properly inserted SKG Premier Rewards club card between promotional days and hours to be eligible to earn drawing entries.\nOne entry is earned for every 250 points earned throughout the month.\nPatrons can earn entries throughout the month from open to close daily.\nDrawing entries must be printed and placed into the drawing barrel ten (10) minutes before each drawing begins.\nWinners will have two (2) minutes to report to the Player’s Club to claim their prize. If the winner does not claim the prize\, their name will be added to the Ineligible Players Log and another name will be drawn until the prize is claimed.\nWinners will pick game pieces from a game board until they match three icons.\nOnce the matching three icons have been revealed\, the guest will be awarded the associated prize. See above for game piece quantity and description with prize amount.\nThe drawing barrel will be emptied weekly following the final drawing at 11:00pm.\nDrawing winners will be selected every hour from 7:00pm to 11:00pm on Fridays.\nXtra Credit is valid 24 hours after issuance.\nPatrons may win more than once.\n\nSee our friendly Players Club staff for more details about this promotion and other promotions at any of our S&K Gaming locations.
URL:https://kwataqnuk.com/event/sink-or-swim-4/
CATEGORIES:Promotion
ATTACH;FMTTYPE=image/jpeg:https://kwataqnuk.com/wp-content/uploads/2024/06/KTN_SinkorSwim-1920_180TV.jpg
END:VEVENT
END:VCALENDAR