BEGIN:VCALENDAR
VERSION:2.0
PRODID:-//Kwataqnuk - ECPv6.15.20//NONSGML v1.0//EN
CALSCALE:GREGORIAN
METHOD:PUBLISH
X-WR-CALNAME:Kwataqnuk
X-ORIGINAL-URL:https://kwataqnuk.com
X-WR-CALDESC:Events for Kwataqnuk
REFRESH-INTERVAL;VALUE=DURATION:PT1H
X-Robots-Tag:noindex
X-PUBLISHED-TTL:PT1H
BEGIN:VTIMEZONE
TZID:America/Denver
BEGIN:DAYLIGHT
TZOFFSETFROM:-0700
TZOFFSETTO:-0600
TZNAME:MDT
DTSTART:20240310T090000
END:DAYLIGHT
BEGIN:STANDARD
TZOFFSETFROM:-0600
TZOFFSETTO:-0700
TZNAME:MST
DTSTART:20241103T080000
END:STANDARD
BEGIN:DAYLIGHT
TZOFFSETFROM:-0700
TZOFFSETTO:-0600
TZNAME:MDT
DTSTART:20250309T090000
END:DAYLIGHT
BEGIN:STANDARD
TZOFFSETFROM:-0600
TZOFFSETTO:-0700
TZNAME:MST
DTSTART:20251102T080000
END:STANDARD
BEGIN:DAYLIGHT
TZOFFSETFROM:-0700
TZOFFSETTO:-0600
TZNAME:MDT
DTSTART:20260308T090000
END:DAYLIGHT
BEGIN:STANDARD
TZOFFSETFROM:-0600
TZOFFSETTO:-0700
TZNAME:MST
DTSTART:20261101T080000
END:STANDARD
END:VTIMEZONE
BEGIN:VEVENT
DTSTART;TZID=America/Denver:20250502T090000
DTEND;TZID=America/Denver:20250502T210000
DTSTAMP:20260424T155600
CREATED:20250417T195326Z
LAST-MODIFIED:20250417T195326Z
UID:33966-1746176400-1746219600@kwataqnuk.com
SUMMARY:Sun of a Beach
DESCRIPTION:Sun of a Beach! Summer rewards await! Through May\, visit Kwataqnuk Resort & Casino and Big Arm Resort & Casino\, where you can earn points and redeem a Fun in the Sun Kit and a Beach lounge chair to kick off your summer right! \n\n\nEvent Details\n\n\nDates and Times\n\n\nPromotion Duration: Thursday\, May 1st – Friday\, May 30th\nEarned Entry Point Dates:\n\nKwataqnuk Resort & Casino: Every other Friday (May 2nd\, 16th\, 30th) and every Sunday (May 4th\, 11th\, 18th\, 25th) in May from 9 AM to 9 PM\nBig Arm Resort & Casino: Every other Thursday (May 1st\, 15th\, 29th) in May from 12 PM to 9 PM\n\n\n\n\nPrizes and Redemption\n\n\nFun in the Sun Kit: Earn 250 points to receive a kit including a koozie\, sunglasses\, ChapStick\, and more!\n\nAvailable at Kwataqnuk Resort & Casino on Fridays and Big Arm Resort & Casino on Thursdays.\n\n\nBeach Chair Lounger: Earn 500 points to receive a branded beach chair with a side pocket and attached footrest.\n\nAvailable every Sunday in May at Kwataqnuk Resort & Casino.\n\n\n\n\n\n\nPromotional Eligibility Requirements\n\n\nOne prize per person per day.\nAll prizes must be redeemed at the Players Club during promotional days and hours.\nPrizes are available while supplies last.\nAll items are branded.\n\n\nGeneral Requirements\n\n\nParticipants must be 18 years or older with valid photo identification and proof of social security number.\nMust be a member of the SKG Premier Rewards Club.\nPrizes are non-transferable and must be redeemed by the SKG Premier Rewards member to whom they were issued.\nManagement reserves the right to cancel\, change\, or modify the promotion at any time with notification to the Gaming Commission.\nWinners are responsible for all applicable reporting and taxes.\n\n\nDon’t miss this chance to collect your summer gear and enjoy the sunny season at Kwataqnuk and Big Arm Resorts! \n\n\nAdditional Information\nFor more information about this promotion and other promotions and club member benefits\, call or visit our friendly Players Club team! \nExplore S&K Gaming\, LLC\nS&K Gaming\, LLC oversees three establishments on the Flathead Indian Reservation! Kwataqnuk Resort & Casino\, Big Arm Resort & Casino\, and Gray Wolf Peak Casino each have something different to offer everyone! From million-dollar views of the pristine Flathead Lake and the Mission Mountains\, dining\, club member benefits\, golf\, gas\, a banquet hall for various events\, and the largest casino in Montana\, S&K Gaming\, LLC has you covered. \nLearn More\nInterested in learning more about S&K Gaming\, LLC and our other locations? Visit our website at https://skgamingllc.com/.
URL:https://kwataqnuk.com/event/sun-of-a-beach/
CATEGORIES:Promotion
ATTACH;FMTTYPE=image/jpeg:https://kwataqnuk.com/wp-content/uploads/2025/04/summervacation-1920x1080-72dpi-1.jpg
END:VEVENT
BEGIN:VEVENT
DTSTART;TZID=America/Denver:20250504T090000
DTEND;TZID=America/Denver:20250504T210000
DTSTAMP:20260424T155600
CREATED:20250417T195502Z
LAST-MODIFIED:20250417T195502Z
UID:33972-1746349200-1746392400@kwataqnuk.com
SUMMARY:Sun of a Beach
DESCRIPTION:Sun of a Beach! Summer rewards await! Through May\, visit Kwataqnuk Resort & Casino and Big Arm Resort & Casino\, where you can earn points and redeem a Fun in the Sun Kit and a Beach lounge chair to kick off your summer right! \n\n\nEvent Details\n\n\nDates and Times\n\n\nPromotion Duration: Thursday\, May 1st – Friday\, May 30th\nEarned Entry Point Dates:\n\nKwataqnuk Resort & Casino: Every other Friday (May 2nd\, 16th\, 30th) and every Sunday (May 4th\, 11th\, 18th\, 25th) in May from 9 AM to 9 PM\nBig Arm Resort & Casino: Every other Thursday (May 1st\, 15th\, 29th) in May from 12 PM to 9 PM\n\n\n\n\nPrizes and Redemption\n\n\nFun in the Sun Kit: Earn 250 points to receive a kit including a koozie\, sunglasses\, ChapStick\, and more!\n\nAvailable at Kwataqnuk Resort & Casino on Fridays and Big Arm Resort & Casino on Thursdays.\n\n\nBeach Chair Lounger: Earn 500 points to receive a branded beach chair with a side pocket and attached footrest.\n\nAvailable every Sunday in May at Kwataqnuk Resort & Casino.\n\n\n\n\n\n\nPromotional Eligibility Requirements\n\n\nOne prize per person per day.\nAll prizes must be redeemed at the Players Club during promotional days and hours.\nPrizes are available while supplies last.\nAll items are branded.\n\n\nGeneral Requirements\n\n\nParticipants must be 18 years or older with valid photo identification and proof of social security number.\nMust be a member of the SKG Premier Rewards Club.\nPrizes are non-transferable and must be redeemed by the SKG Premier Rewards member to whom they were issued.\nManagement reserves the right to cancel\, change\, or modify the promotion at any time with notification to the Gaming Commission.\nWinners are responsible for all applicable reporting and taxes.\n\n\nDon’t miss this chance to collect your summer gear and enjoy the sunny season at Kwataqnuk and Big Arm Resorts! \n\n\nAdditional Information\nFor more information about this promotion and other promotions and club member benefits\, call or visit our friendly Players Club team! \nExplore S&K Gaming\, LLC\nS&K Gaming\, LLC oversees three establishments on the Flathead Indian Reservation! Kwataqnuk Resort & Casino\, Big Arm Resort & Casino\, and Gray Wolf Peak Casino each have something different to offer everyone! From million-dollar views of the pristine Flathead Lake and the Mission Mountains\, dining\, club member benefits\, golf\, gas\, a banquet hall for various events\, and the largest casino in Montana\, S&K Gaming\, LLC has you covered. \nLearn More\nInterested in learning more about S&K Gaming\, LLC and our other locations? Visit our website at https://skgamingllc.com/.
URL:https://kwataqnuk.com/event/sun-of-a-beach-4/
CATEGORIES:Promotion
ATTACH;FMTTYPE=image/jpeg:https://kwataqnuk.com/wp-content/uploads/2025/04/summervacation-1920x1080-72dpi-1.jpg
END:VEVENT
BEGIN:VEVENT
DTSTART;TZID=America/Denver:20250511T090000
DTEND;TZID=America/Denver:20250511T210000
DTSTAMP:20260424T155600
CREATED:20250417T195523Z
LAST-MODIFIED:20250417T195523Z
UID:33974-1746954000-1746997200@kwataqnuk.com
SUMMARY:Sun of a Beach
DESCRIPTION:Sun of a Beach! Summer rewards await! Through May\, visit Kwataqnuk Resort & Casino and Big Arm Resort & Casino\, where you can earn points and redeem a Fun in the Sun Kit and a Beach lounge chair to kick off your summer right! \n\n\nEvent Details\n\n\nDates and Times\n\n\nPromotion Duration: Thursday\, May 1st – Friday\, May 30th\nEarned Entry Point Dates:\n\nKwataqnuk Resort & Casino: Every other Friday (May 2nd\, 16th\, 30th) and every Sunday (May 4th\, 11th\, 18th\, 25th) in May from 9 AM to 9 PM\nBig Arm Resort & Casino: Every other Thursday (May 1st\, 15th\, 29th) in May from 12 PM to 9 PM\n\n\n\n\nPrizes and Redemption\n\n\nFun in the Sun Kit: Earn 250 points to receive a kit including a koozie\, sunglasses\, ChapStick\, and more!\n\nAvailable at Kwataqnuk Resort & Casino on Fridays and Big Arm Resort & Casino on Thursdays.\n\n\nBeach Chair Lounger: Earn 500 points to receive a branded beach chair with a side pocket and attached footrest.\n\nAvailable every Sunday in May at Kwataqnuk Resort & Casino.\n\n\n\n\n\n\nPromotional Eligibility Requirements\n\n\nOne prize per person per day.\nAll prizes must be redeemed at the Players Club during promotional days and hours.\nPrizes are available while supplies last.\nAll items are branded.\n\n\nGeneral Requirements\n\n\nParticipants must be 18 years or older with valid photo identification and proof of social security number.\nMust be a member of the SKG Premier Rewards Club.\nPrizes are non-transferable and must be redeemed by the SKG Premier Rewards member to whom they were issued.\nManagement reserves the right to cancel\, change\, or modify the promotion at any time with notification to the Gaming Commission.\nWinners are responsible for all applicable reporting and taxes.\n\n\nDon’t miss this chance to collect your summer gear and enjoy the sunny season at Kwataqnuk and Big Arm Resorts! \n\n\nAdditional Information\nFor more information about this promotion and other promotions and club member benefits\, call or visit our friendly Players Club team! \nExplore S&K Gaming\, LLC\nS&K Gaming\, LLC oversees three establishments on the Flathead Indian Reservation! Kwataqnuk Resort & Casino\, Big Arm Resort & Casino\, and Gray Wolf Peak Casino each have something different to offer everyone! From million-dollar views of the pristine Flathead Lake and the Mission Mountains\, dining\, club member benefits\, golf\, gas\, a banquet hall for various events\, and the largest casino in Montana\, S&K Gaming\, LLC has you covered. \nLearn More\nInterested in learning more about S&K Gaming\, LLC and our other locations? Visit our website at https://skgamingllc.com/.
URL:https://kwataqnuk.com/event/sun-of-a-beach-5/
CATEGORIES:Promotion
ATTACH;FMTTYPE=image/jpeg:https://kwataqnuk.com/wp-content/uploads/2025/04/summervacation-1920x1080-72dpi-1.jpg
END:VEVENT
BEGIN:VEVENT
DTSTART;TZID=America/Denver:20250516T090000
DTEND;TZID=America/Denver:20250516T210000
DTSTAMP:20260424T155600
CREATED:20250417T195357Z
LAST-MODIFIED:20250417T195357Z
UID:33968-1747386000-1747429200@kwataqnuk.com
SUMMARY:Sun of a Beach
DESCRIPTION:Sun of a Beach! Summer rewards await! Through May\, visit Kwataqnuk Resort & Casino and Big Arm Resort & Casino\, where you can earn points and redeem a Fun in the Sun Kit and a Beach lounge chair to kick off your summer right! \n\n\nEvent Details\n\n\nDates and Times\n\n\nPromotion Duration: Thursday\, May 1st – Friday\, May 30th\nEarned Entry Point Dates:\n\nKwataqnuk Resort & Casino: Every other Friday (May 2nd\, 16th\, 30th) and every Sunday (May 4th\, 11th\, 18th\, 25th) in May from 9 AM to 9 PM\nBig Arm Resort & Casino: Every other Thursday (May 1st\, 15th\, 29th) in May from 12 PM to 9 PM\n\n\n\n\nPrizes and Redemption\n\n\nFun in the Sun Kit: Earn 250 points to receive a kit including a koozie\, sunglasses\, ChapStick\, and more!\n\nAvailable at Kwataqnuk Resort & Casino on Fridays and Big Arm Resort & Casino on Thursdays.\n\n\nBeach Chair Lounger: Earn 500 points to receive a branded beach chair with a side pocket and attached footrest.\n\nAvailable every Sunday in May at Kwataqnuk Resort & Casino.\n\n\n\n\n\n\nPromotional Eligibility Requirements\n\n\nOne prize per person per day.\nAll prizes must be redeemed at the Players Club during promotional days and hours.\nPrizes are available while supplies last.\nAll items are branded.\n\n\nGeneral Requirements\n\n\nParticipants must be 18 years or older with valid photo identification and proof of social security number.\nMust be a member of the SKG Premier Rewards Club.\nPrizes are non-transferable and must be redeemed by the SKG Premier Rewards member to whom they were issued.\nManagement reserves the right to cancel\, change\, or modify the promotion at any time with notification to the Gaming Commission.\nWinners are responsible for all applicable reporting and taxes.\n\n\nDon’t miss this chance to collect your summer gear and enjoy the sunny season at Kwataqnuk and Big Arm Resorts! \n\n\nAdditional Information\nFor more information about this promotion and other promotions and club member benefits\, call or visit our friendly Players Club team! \nExplore S&K Gaming\, LLC\nS&K Gaming\, LLC oversees three establishments on the Flathead Indian Reservation! Kwataqnuk Resort & Casino\, Big Arm Resort & Casino\, and Gray Wolf Peak Casino each have something different to offer everyone! From million-dollar views of the pristine Flathead Lake and the Mission Mountains\, dining\, club member benefits\, golf\, gas\, a banquet hall for various events\, and the largest casino in Montana\, S&K Gaming\, LLC has you covered. \nLearn More\nInterested in learning more about S&K Gaming\, LLC and our other locations? Visit our website at https://skgamingllc.com/.
URL:https://kwataqnuk.com/event/sun-of-a-beach-2/
CATEGORIES:Promotion
ATTACH;FMTTYPE=image/jpeg:https://kwataqnuk.com/wp-content/uploads/2025/04/summervacation-1920x1080-72dpi-1.jpg
END:VEVENT
BEGIN:VEVENT
DTSTART;TZID=America/Denver:20250518T090000
DTEND;TZID=America/Denver:20250518T210000
DTSTAMP:20260424T155600
CREATED:20250417T195542Z
LAST-MODIFIED:20250417T195542Z
UID:33976-1747558800-1747602000@kwataqnuk.com
SUMMARY:Sun of a Beach
DESCRIPTION:Sun of a Beach! Summer rewards await! Through May\, visit Kwataqnuk Resort & Casino and Big Arm Resort & Casino\, where you can earn points and redeem a Fun in the Sun Kit and a Beach lounge chair to kick off your summer right! \n\n\nEvent Details\n\n\nDates and Times\n\n\nPromotion Duration: Thursday\, May 1st – Friday\, May 30th\nEarned Entry Point Dates:\n\nKwataqnuk Resort & Casino: Every other Friday (May 2nd\, 16th\, 30th) and every Sunday (May 4th\, 11th\, 18th\, 25th) in May from 9 AM to 9 PM\nBig Arm Resort & Casino: Every other Thursday (May 1st\, 15th\, 29th) in May from 12 PM to 9 PM\n\n\n\n\nPrizes and Redemption\n\n\nFun in the Sun Kit: Earn 250 points to receive a kit including a koozie\, sunglasses\, ChapStick\, and more!\n\nAvailable at Kwataqnuk Resort & Casino on Fridays and Big Arm Resort & Casino on Thursdays.\n\n\nBeach Chair Lounger: Earn 500 points to receive a branded beach chair with a side pocket and attached footrest.\n\nAvailable every Sunday in May at Kwataqnuk Resort & Casino.\n\n\n\n\n\n\nPromotional Eligibility Requirements\n\n\nOne prize per person per day.\nAll prizes must be redeemed at the Players Club during promotional days and hours.\nPrizes are available while supplies last.\nAll items are branded.\n\n\nGeneral Requirements\n\n\nParticipants must be 18 years or older with valid photo identification and proof of social security number.\nMust be a member of the SKG Premier Rewards Club.\nPrizes are non-transferable and must be redeemed by the SKG Premier Rewards member to whom they were issued.\nManagement reserves the right to cancel\, change\, or modify the promotion at any time with notification to the Gaming Commission.\nWinners are responsible for all applicable reporting and taxes.\n\n\nDon’t miss this chance to collect your summer gear and enjoy the sunny season at Kwataqnuk and Big Arm Resorts! \n\n\nAdditional Information\nFor more information about this promotion and other promotions and club member benefits\, call or visit our friendly Players Club team! \nExplore S&K Gaming\, LLC\nS&K Gaming\, LLC oversees three establishments on the Flathead Indian Reservation! Kwataqnuk Resort & Casino\, Big Arm Resort & Casino\, and Gray Wolf Peak Casino each have something different to offer everyone! From million-dollar views of the pristine Flathead Lake and the Mission Mountains\, dining\, club member benefits\, golf\, gas\, a banquet hall for various events\, and the largest casino in Montana\, S&K Gaming\, LLC has you covered. \nLearn More\nInterested in learning more about S&K Gaming\, LLC and our other locations? Visit our website at https://skgamingllc.com/.
URL:https://kwataqnuk.com/event/sun-of-a-beach-6/
CATEGORIES:Promotion
ATTACH;FMTTYPE=image/jpeg:https://kwataqnuk.com/wp-content/uploads/2025/04/summervacation-1920x1080-72dpi-1.jpg
END:VEVENT
BEGIN:VEVENT
DTSTART;TZID=America/Denver:20250523T160000
DTEND;TZID=America/Denver:20250523T200000
DTSTAMP:20260424T155600
CREATED:20250328T214324Z
LAST-MODIFIED:20250328T214324Z
UID:33927-1748016000-1748030400@kwataqnuk.com
SUMMARY:$5000 Monthly Money
DESCRIPTION:$5000 Monthly Money at Big Arm Resort Casino\n\n\nEarn your entries for our $5000 Monthly Money drawings at Big Arm Resort Casino! From Wednesday\, April 2\, to Friday\, June 27\, you have the chance to earn your share of over $5000. Simply earn entries by collecting 250 points at either Kwataqnuk or Big Arm locations. Don’t miss your chance to win big and be part of the grand finale! \n\n\nPromotion Schedule\n\n\nEarned Entry Dates:\n\n\nBegin collecting entries from Wednesday\, April 2\, to Friday\, June 27.\n\n\nDrawing Days and Times:\n\n\nDrawings occur every hour from 4:00 PM to 8:00 PM on the following Fridays:\n\nApril 25\nMay 23\nJune 27\n\n\nMark your calendar for the Grand Finale on Friday\, June 27\, at 9:00 PM\n\n\nHow to Participate\n\n\nTo join the fun\, patrons must actively play a slot machine with a properly inserted SKG Premier Rewards club card during promotional days and hours. One entry is earned for every 250 points collected. Remember\, entries must be printed and placed in the drawing barrel at Big Arm Casino Resort ten minutes before each drawing begins. \n\n\nWinner Details\n\n\nDrawing Days: Five lucky winners will be drawn each day.\nGrand Finale: On June 27\, three winners will share the final amount.\n\n\nWinners must be present to claim their prize and have two minutes to report to the Player’s Club. Failure to do so will result in being added to the Ineligible Players Log. Winners on regular drawing days will receive $225 Xtra Credit\, while the unclaimed amounts will be awarded during the final drawing. During the Grand Finale\, three entries will be drawn\, and the prize pool will be split evenly among verified winners present. \n\n\nImportant Notes\n\n\nPatrons can win multiple times but only once during the final drawing.\nThe drawing barrel will be emptied after the final drawing on June 27.\n\n\nAdditional Information\nFor more information about this promotion and other promotions and club member benefits\, call or visit our friendly Players Club team! \nExplore S&K Gaming\, LLC\nS&K Gaming\, LLC oversees three establishments on the Flathead Indian Reservation! Kwataqnuk Resort & Casino\, Big Arm Resort & Casino\, and Gray Wolf Peak Casino each have something different to offer everyone! From million-dollar views of the pristine Flathead Lake and the Mission Mountains\, dining\, club member benefits\, golf\, gas\, a banquet hall for various events\, and the largest casino in Montana\, S&K Gaming\, LLC has you covered. \nLearn More\nInterested in learning more about S&K Gaming\, LLC and our other locations? Visit our website at https://skgamingllc.com/.
URL:https://kwataqnuk.com/event/5000-monthly-money/
CATEGORIES:Promotion
ATTACH;FMTTYPE=image/jpeg:https://kwataqnuk.com/wp-content/uploads/2025/03/monthlymoney-1920x1080-72dpi.jpg
END:VEVENT
BEGIN:VEVENT
DTSTART;TZID=America/Denver:20250525T090000
DTEND;TZID=America/Denver:20250525T210000
DTSTAMP:20260424T155600
CREATED:20250417T195609Z
LAST-MODIFIED:20250417T195609Z
UID:33978-1748163600-1748206800@kwataqnuk.com
SUMMARY:Sun of a Beach
DESCRIPTION:Sun of a Beach! Summer rewards await! Through May\, visit Kwataqnuk Resort & Casino and Big Arm Resort & Casino\, where you can earn points and redeem a Fun in the Sun Kit and a Beach lounge chair to kick off your summer right! \n\n\nEvent Details\n\n\nDates and Times\n\n\nPromotion Duration: Thursday\, May 1st – Friday\, May 30th\nEarned Entry Point Dates:\n\nKwataqnuk Resort & Casino: Every other Friday (May 2nd\, 16th\, 30th) and every Sunday (May 4th\, 11th\, 18th\, 25th) in May from 9 AM to 9 PM\nBig Arm Resort & Casino: Every other Thursday (May 1st\, 15th\, 29th) in May from 12 PM to 9 PM\n\n\n\n\nPrizes and Redemption\n\n\nFun in the Sun Kit: Earn 250 points to receive a kit including a koozie\, sunglasses\, ChapStick\, and more!\n\nAvailable at Kwataqnuk Resort & Casino on Fridays and Big Arm Resort & Casino on Thursdays.\n\n\nBeach Chair Lounger: Earn 500 points to receive a branded beach chair with a side pocket and attached footrest.\n\nAvailable every Sunday in May at Kwataqnuk Resort & Casino.\n\n\n\n\n\n\nPromotional Eligibility Requirements\n\n\nOne prize per person per day.\nAll prizes must be redeemed at the Players Club during promotional days and hours.\nPrizes are available while supplies last.\nAll items are branded.\n\n\nGeneral Requirements\n\n\nParticipants must be 18 years or older with valid photo identification and proof of social security number.\nMust be a member of the SKG Premier Rewards Club.\nPrizes are non-transferable and must be redeemed by the SKG Premier Rewards member to whom they were issued.\nManagement reserves the right to cancel\, change\, or modify the promotion at any time with notification to the Gaming Commission.\nWinners are responsible for all applicable reporting and taxes.\n\n\nDon’t miss this chance to collect your summer gear and enjoy the sunny season at Kwataqnuk and Big Arm Resorts! \n\n\nAdditional Information\nFor more information about this promotion and other promotions and club member benefits\, call or visit our friendly Players Club team! \nExplore S&K Gaming\, LLC\nS&K Gaming\, LLC oversees three establishments on the Flathead Indian Reservation! Kwataqnuk Resort & Casino\, Big Arm Resort & Casino\, and Gray Wolf Peak Casino each have something different to offer everyone! From million-dollar views of the pristine Flathead Lake and the Mission Mountains\, dining\, club member benefits\, golf\, gas\, a banquet hall for various events\, and the largest casino in Montana\, S&K Gaming\, LLC has you covered. \nLearn More\nInterested in learning more about S&K Gaming\, LLC and our other locations? Visit our website at https://skgamingllc.com/.
URL:https://kwataqnuk.com/event/sun-of-a-beach-7/
CATEGORIES:Promotion
ATTACH;FMTTYPE=image/jpeg:https://kwataqnuk.com/wp-content/uploads/2025/04/summervacation-1920x1080-72dpi-1.jpg
END:VEVENT
BEGIN:VEVENT
DTSTART;TZID=America/Denver:20250530T090000
DTEND;TZID=America/Denver:20250530T210000
DTSTAMP:20260424T155600
CREATED:20250417T195428Z
LAST-MODIFIED:20250417T195428Z
UID:33970-1748595600-1748638800@kwataqnuk.com
SUMMARY:Sun of a Beach
DESCRIPTION:Sun of a Beach! Summer rewards await! Through May\, visit Kwataqnuk Resort & Casino and Big Arm Resort & Casino\, where you can earn points and redeem a Fun in the Sun Kit and a Beach lounge chair to kick off your summer right! \n\n\nEvent Details\n\n\nDates and Times\n\n\nPromotion Duration: Thursday\, May 1st – Friday\, May 30th\nEarned Entry Point Dates:\n\nKwataqnuk Resort & Casino: Every other Friday (May 2nd\, 16th\, 30th) and every Sunday (May 4th\, 11th\, 18th\, 25th) in May from 9 AM to 9 PM\nBig Arm Resort & Casino: Every other Thursday (May 1st\, 15th\, 29th) in May from 12 PM to 9 PM\n\n\n\n\nPrizes and Redemption\n\n\nFun in the Sun Kit: Earn 250 points to receive a kit including a koozie\, sunglasses\, ChapStick\, and more!\n\nAvailable at Kwataqnuk Resort & Casino on Fridays and Big Arm Resort & Casino on Thursdays.\n\n\nBeach Chair Lounger: Earn 500 points to receive a branded beach chair with a side pocket and attached footrest.\n\nAvailable every Sunday in May at Kwataqnuk Resort & Casino.\n\n\n\n\n\n\nPromotional Eligibility Requirements\n\n\nOne prize per person per day.\nAll prizes must be redeemed at the Players Club during promotional days and hours.\nPrizes are available while supplies last.\nAll items are branded.\n\n\nGeneral Requirements\n\n\nParticipants must be 18 years or older with valid photo identification and proof of social security number.\nMust be a member of the SKG Premier Rewards Club.\nPrizes are non-transferable and must be redeemed by the SKG Premier Rewards member to whom they were issued.\nManagement reserves the right to cancel\, change\, or modify the promotion at any time with notification to the Gaming Commission.\nWinners are responsible for all applicable reporting and taxes.\n\n\nDon’t miss this chance to collect your summer gear and enjoy the sunny season at Kwataqnuk and Big Arm Resorts! \n\n\nAdditional Information\nFor more information about this promotion and other promotions and club member benefits\, call or visit our friendly Players Club team! \nExplore S&K Gaming\, LLC\nS&K Gaming\, LLC oversees three establishments on the Flathead Indian Reservation! Kwataqnuk Resort & Casino\, Big Arm Resort & Casino\, and Gray Wolf Peak Casino each have something different to offer everyone! From million-dollar views of the pristine Flathead Lake and the Mission Mountains\, dining\, club member benefits\, golf\, gas\, a banquet hall for various events\, and the largest casino in Montana\, S&K Gaming\, LLC has you covered. \nLearn More\nInterested in learning more about S&K Gaming\, LLC and our other locations? Visit our website at https://skgamingllc.com/.
URL:https://kwataqnuk.com/event/sun-of-a-beach-3/
CATEGORIES:Promotion
ATTACH;FMTTYPE=image/jpeg:https://kwataqnuk.com/wp-content/uploads/2025/04/summervacation-1920x1080-72dpi-1.jpg
END:VEVENT
END:VCALENDAR