BEGIN:VCALENDAR
VERSION:2.0
PRODID:-//Kwataqnuk - ECPv6.15.20//NONSGML v1.0//EN
CALSCALE:GREGORIAN
METHOD:PUBLISH
X-WR-CALNAME:Kwataqnuk
X-ORIGINAL-URL:https://kwataqnuk.com
X-WR-CALDESC:Events for Kwataqnuk
REFRESH-INTERVAL;VALUE=DURATION:PT1H
X-Robots-Tag:noindex
X-PUBLISHED-TTL:PT1H
BEGIN:VTIMEZONE
TZID:America/Denver
BEGIN:DAYLIGHT
TZOFFSETFROM:-0700
TZOFFSETTO:-0600
TZNAME:MDT
DTSTART:20250309T090000
END:DAYLIGHT
BEGIN:STANDARD
TZOFFSETFROM:-0600
TZOFFSETTO:-0700
TZNAME:MST
DTSTART:20251102T080000
END:STANDARD
BEGIN:DAYLIGHT
TZOFFSETFROM:-0700
TZOFFSETTO:-0600
TZNAME:MDT
DTSTART:20260308T090000
END:DAYLIGHT
BEGIN:STANDARD
TZOFFSETFROM:-0600
TZOFFSETTO:-0700
TZNAME:MST
DTSTART:20261101T080000
END:STANDARD
BEGIN:DAYLIGHT
TZOFFSETFROM:-0700
TZOFFSETTO:-0600
TZNAME:MDT
DTSTART:20270314T090000
END:DAYLIGHT
BEGIN:STANDARD
TZOFFSETFROM:-0600
TZOFFSETTO:-0700
TZNAME:MST
DTSTART:20271107T080000
END:STANDARD
END:VTIMEZONE
BEGIN:VEVENT
DTSTART;TZID=America/Denver:20260304T090000
DTEND;TZID=America/Denver:20260304T170000
DTSTAMP:20260422T011111
CREATED:20260225T164708Z
LAST-MODIFIED:20260225T164708Z
UID:34354-1772614800-1772643600@kwataqnuk.com
SUMMARY:Forever Young - Kwataqnuk
DESCRIPTION:Forever Young – Kwataqnuk \nStay Forever Young at Kwataqnuk Resort & Casino! \nWe are calling all SKG Premier Rewards members ages 50 and older! Did you know that if you visit Kwataqnuk Resort & Casino on Wednesdays from 9am to 5pm and earn 50 points\, you can redeem a $10 food credit to Falling Waters Bar & Grill? It’s true! To earn points\, you just have to be carded in while playing! Have questions? Please\, stop in and visit our friendly players club representatives for details. If you are interested in viewing the Falling Waters Bar & Grill menu\, you can click this MENU LINK! \nBut wait! There’s more! You can also take advantage of this great offer at any of our S&K Gaming locations! That’s right\, you can earn 50 points at Big Arm Resort & Casino and at Gray Wolf Peak Casino to redeem a $10 dining credit to LASSAW or Big Arm Restaurant! \nStay Forever Young at Big Arm Resort & Casino on THURSDAYS! Big Arm Casino is open from 12:00pm to 10:00pm\, and the restaurant is open from 12:00pm to 9:00pm. Here is the current Big Arm Restaurant MENU. \nOr stay Forever Young at Gray Wolf Peak Casino on TUESDAYS! Gray Wolf Peak Casino’s operating hours are every day from 10:00am to 2:00am. Here is the current Lassaw MENU. \n 
URL:https://kwataqnuk.com/event/forever-young-kwataqnuk-90/
CATEGORIES:dining,Promotion
ATTACH;FMTTYPE=image/jpeg:https://kwataqnuk.com/wp-content/uploads/2024/12/foreveryoung-1920x1080-2.jpg
END:VEVENT
BEGIN:VEVENT
DTSTART;VALUE=DATE:20260310
DTEND;VALUE=DATE:20260311
DTSTAMP:20260422T011111
CREATED:20260304T172525Z
LAST-MODIFIED:20260304T172808Z
UID:34366-1773100800-1773187199@kwataqnuk.com
SUMMARY:Kwataqnuk Resort & Casino Important Notice
DESCRIPTION:Kwataqnuk Resort & Casino Important Notice \nDear Valued Guests\, \nWe are excited to announce that we will be transitioning our gaming system to provide you with an enhanced experience on March 10\, 2026. \nWe apologize for any inconvenience this transition may cause and appreciate your understanding and patience during this time. Our team is committed to making this process as seamless as possible\, ensuring that your enjoyment remains our top priority. \nThank you for your continued support and loyalty! \nS&K Gaming Team \nAdditional Information\nFor more information about Kwataqnuk Resort & Casino Important Notice call 406-883-3636 or visit our friendly Players Club team! \nExplore S&K Gaming\, LLC\nS&K Gaming\, LLC oversees three establishments on the Flathead Indian Reservation! Kwataqnuk Resort & Casino\, Big Arm Resort & Casino\, and Gray Wolf Peak Casino each have something different to offer everyone! From million-dollar views of the pristine Flathead Lake and the Mission Mountains\, dining\, club member benefits\, golf\, gas\, a banquet hall for various events\, and the largest casino in Montana\, S&K Gaming\, LLC has you covered. \nLearn More\nInterested in learning more about S&K Gaming\, LLC and our other locations? Visit our website at https://skgamingllc.com/.
URL:https://kwataqnuk.com/event/important-notice-closed/
ATTACH;FMTTYPE=image/jpeg:https://kwataqnuk.com/wp-content/uploads/2026/03/KTN_Digital_Closed_1_1920x1080.jpg
END:VEVENT
BEGIN:VEVENT
DTSTART;TZID=America/Denver:20260311T090000
DTEND;TZID=America/Denver:20260311T170000
DTSTAMP:20260422T011111
CREATED:20260225T164745Z
LAST-MODIFIED:20260225T164745Z
UID:34356-1773219600-1773248400@kwataqnuk.com
SUMMARY:Forever Young - Kwataqnuk
DESCRIPTION:Forever Young – Kwataqnuk \nStay Forever Young at Kwataqnuk Resort & Casino! \nWe are calling all SKG Premier Rewards members ages 50 and older! Did you know that if you visit Kwataqnuk Resort & Casino on Wednesdays from 9am to 5pm and earn 50 points\, you can redeem a $10 food credit to Falling Waters Bar & Grill? It’s true! To earn points\, you just have to be carded in while playing! Have questions? Please\, stop in and visit our friendly players club representatives for details. If you are interested in viewing the Falling Waters Bar & Grill menu\, you can click this MENU LINK! \nBut wait! There’s more! You can also take advantage of this great offer at any of our S&K Gaming locations! That’s right\, you can earn 50 points at Big Arm Resort & Casino and at Gray Wolf Peak Casino to redeem a $10 dining credit to LASSAW or Big Arm Restaurant! \nStay Forever Young at Big Arm Resort & Casino on THURSDAYS! Big Arm Casino is open from 12:00pm to 10:00pm\, and the restaurant is open from 12:00pm to 9:00pm. Here is the current Big Arm Restaurant MENU. \nOr stay Forever Young at Gray Wolf Peak Casino on TUESDAYS! Gray Wolf Peak Casino’s operating hours are every day from 10:00am to 2:00am. Here is the current Lassaw MENU. \n 
URL:https://kwataqnuk.com/event/forever-young-kwataqnuk-91/
CATEGORIES:dining,Promotion
ATTACH;FMTTYPE=image/jpeg:https://kwataqnuk.com/wp-content/uploads/2024/12/foreveryoung-1920x1080-2.jpg
END:VEVENT
BEGIN:VEVENT
DTSTART;TZID=America/Denver:20260318T090000
DTEND;TZID=America/Denver:20260318T170000
DTSTAMP:20260422T011111
CREATED:20260225T164812Z
LAST-MODIFIED:20260225T164812Z
UID:34358-1773824400-1773853200@kwataqnuk.com
SUMMARY:Forever Young - Kwataqnuk
DESCRIPTION:Forever Young – Kwataqnuk \nStay Forever Young at Kwataqnuk Resort & Casino! \nWe are calling all SKG Premier Rewards members ages 50 and older! Did you know that if you visit Kwataqnuk Resort & Casino on Wednesdays from 9am to 5pm and earn 50 points\, you can redeem a $10 food credit to Falling Waters Bar & Grill? It’s true! To earn points\, you just have to be carded in while playing! Have questions? Please\, stop in and visit our friendly players club representatives for details. If you are interested in viewing the Falling Waters Bar & Grill menu\, you can click this MENU LINK! \nBut wait! There’s more! You can also take advantage of this great offer at any of our S&K Gaming locations! That’s right\, you can earn 50 points at Big Arm Resort & Casino and at Gray Wolf Peak Casino to redeem a $10 dining credit to LASSAW or Big Arm Restaurant! \nStay Forever Young at Big Arm Resort & Casino on THURSDAYS! Big Arm Casino is open from 12:00pm to 10:00pm\, and the restaurant is open from 12:00pm to 9:00pm. Here is the current Big Arm Restaurant MENU. \nOr stay Forever Young at Gray Wolf Peak Casino on TUESDAYS! Gray Wolf Peak Casino’s operating hours are every day from 10:00am to 2:00am. Here is the current Lassaw MENU. \n 
URL:https://kwataqnuk.com/event/forever-young-kwataqnuk-92/
CATEGORIES:dining,Promotion
ATTACH;FMTTYPE=image/jpeg:https://kwataqnuk.com/wp-content/uploads/2024/12/foreveryoung-1920x1080-2.jpg
END:VEVENT
BEGIN:VEVENT
DTSTART;TZID=America/Denver:20260325T090000
DTEND;TZID=America/Denver:20260325T170000
DTSTAMP:20260422T011111
CREATED:20260225T164845Z
LAST-MODIFIED:20260225T164845Z
UID:34360-1774429200-1774458000@kwataqnuk.com
SUMMARY:Forever Young - Kwataqnuk
DESCRIPTION:Forever Young – Kwataqnuk \nStay Forever Young at Kwataqnuk Resort & Casino! \nWe are calling all SKG Premier Rewards members ages 50 and older! Did you know that if you visit Kwataqnuk Resort & Casino on Wednesdays from 9am to 5pm and earn 50 points\, you can redeem a $10 food credit to Falling Waters Bar & Grill? It’s true! To earn points\, you just have to be carded in while playing! Have questions? Please\, stop in and visit our friendly players club representatives for details. If you are interested in viewing the Falling Waters Bar & Grill menu\, you can click this MENU LINK! \nBut wait! There’s more! You can also take advantage of this great offer at any of our S&K Gaming locations! That’s right\, you can earn 50 points at Big Arm Resort & Casino and at Gray Wolf Peak Casino to redeem a $10 dining credit to LASSAW or Big Arm Restaurant! \nStay Forever Young at Big Arm Resort & Casino on THURSDAYS! Big Arm Casino is open from 12:00pm to 10:00pm\, and the restaurant is open from 12:00pm to 9:00pm. Here is the current Big Arm Restaurant MENU. \nOr stay Forever Young at Gray Wolf Peak Casino on TUESDAYS! Gray Wolf Peak Casino’s operating hours are every day from 10:00am to 2:00am. Here is the current Lassaw MENU. \n 
URL:https://kwataqnuk.com/event/forever-young-kwataqnuk-93/
CATEGORIES:dining,Promotion
ATTACH;FMTTYPE=image/jpeg:https://kwataqnuk.com/wp-content/uploads/2024/12/foreveryoung-1920x1080-2.jpg
END:VEVENT
END:VCALENDAR