BEGIN:VCALENDAR
VERSION:2.0
PRODID:-//Kwataqnuk - ECPv6.15.20//NONSGML v1.0//EN
CALSCALE:GREGORIAN
METHOD:PUBLISH
X-WR-CALNAME:Kwataqnuk
X-ORIGINAL-URL:https://kwataqnuk.com
X-WR-CALDESC:Events for Kwataqnuk
REFRESH-INTERVAL;VALUE=DURATION:PT1H
X-Robots-Tag:noindex
X-PUBLISHED-TTL:PT1H
BEGIN:VTIMEZONE
TZID:America/Denver
BEGIN:DAYLIGHT
TZOFFSETFROM:-0700
TZOFFSETTO:-0600
TZNAME:MDT
DTSTART:20240310T090000
END:DAYLIGHT
BEGIN:STANDARD
TZOFFSETFROM:-0600
TZOFFSETTO:-0700
TZNAME:MST
DTSTART:20241103T080000
END:STANDARD
BEGIN:DAYLIGHT
TZOFFSETFROM:-0700
TZOFFSETTO:-0600
TZNAME:MDT
DTSTART:20250309T090000
END:DAYLIGHT
BEGIN:STANDARD
TZOFFSETFROM:-0600
TZOFFSETTO:-0700
TZNAME:MST
DTSTART:20251102T080000
END:STANDARD
BEGIN:DAYLIGHT
TZOFFSETFROM:-0700
TZOFFSETTO:-0600
TZNAME:MDT
DTSTART:20260308T090000
END:DAYLIGHT
BEGIN:STANDARD
TZOFFSETFROM:-0600
TZOFFSETTO:-0700
TZNAME:MST
DTSTART:20261101T080000
END:STANDARD
END:VTIMEZONE
BEGIN:VEVENT
DTSTART;TZID=America/Denver:20251016T190000
DTEND;TZID=America/Denver:20251016T230000
DTSTAMP:20260420T201959
CREATED:20250923T160313Z
LAST-MODIFIED:20250923T160313Z
UID:34095-1760641200-1760655600@kwataqnuk.com
SUMMARY:$7000 Cash Stash
DESCRIPTION:$7000 Cash Stash\nFind the cash stash every Thursday and Saturday this October beginning Thursday the 9th to the\n30th and make sure you join us on Saturday\, November 1 – the final drawing day – and pocket up\nto $1\,000 CASH! Earn entries with every 200 points from October 1 – November 1! Drawings\ntake place every hour from 7 – 11pm! \nDates and Times of Promotion:\n• Earned Entry Dates: Wed.\, October 1 – Sat.\, Nov. 1\n• Drawing Days: Regular Drawing Days – Thursdays and Saturdays\, October 9 – October 30\nFinal Drawing – Saturday\, Nov. 1\n• Drawing Times: 7:00pm – 11:00pm \nPromotional Eligibility Requirements:\nA. Patrons must be actively playing a slot machine with a properly inserted SKG Premier Rewards club card between promotional days and hours to be eligible to earn drawing entries.\nB. One entry is earned for every 200 points earned throughout the month.\nC. Patrons can earn entries throughout the month from open to close daily from Wednesday\, October 1 to October 30 and open to 10:30pm on Saturday\, November 1.\nD. Drawing entries must be printed and placed into the drawing barrel twenty (20) minutes before each drawing begins.\nE. Winners will have two (2) minutes to report to the Player’s Club to claim their prize. If the winner does not claim the prize\, their name will be added to the Ineligible Players Log and another name will be drawn until a winner is present and verified.\nF. Winner(s) will pick 1 of 20 game pieces from a game board to reveal prizes between $500 cash and $100 Xtra Credit during regular drawing days and between $1\,000 cash and $200 Xtra Credit.\nG. Once the prize amount has been revealed\, the guest will be awarded the associated prize. See above for prize amounts.\nH. The drawing barrel will be emptied weekly following the final drawing and at 11:00pm on Saturday\, November 1.\nI. Drawing winners will be selected every hour from 7:00pm to 11:00pm on Thursdays and Saturdays in October.\nJ. Xtra Credit is valid 24 hours after issuance.\nK. Patrons may win more than once.
URL:https://kwataqnuk.com/event/7000-cash-stash-3/
CATEGORIES:Promotion
ATTACH;FMTTYPE=image/jpeg:https://kwataqnuk.com/wp-content/uploads/2025/09/cashstash-1920x1080-1.jpg
END:VEVENT
END:VCALENDAR