BEGIN:VCALENDAR
VERSION:2.0
PRODID:-//Kwataqnuk - ECPv6.15.20//NONSGML v1.0//EN
CALSCALE:GREGORIAN
METHOD:PUBLISH
X-ORIGINAL-URL:https://kwataqnuk.com
X-WR-CALDESC:Events for Kwataqnuk
REFRESH-INTERVAL;VALUE=DURATION:PT1H
X-Robots-Tag:noindex
X-PUBLISHED-TTL:PT1H
BEGIN:VTIMEZONE
TZID:America/Denver
BEGIN:DAYLIGHT
TZOFFSETFROM:-0700
TZOFFSETTO:-0600
TZNAME:MDT
DTSTART:20240310T090000
END:DAYLIGHT
BEGIN:STANDARD
TZOFFSETFROM:-0600
TZOFFSETTO:-0700
TZNAME:MST
DTSTART:20241103T080000
END:STANDARD
BEGIN:DAYLIGHT
TZOFFSETFROM:-0700
TZOFFSETTO:-0600
TZNAME:MDT
DTSTART:20250309T090000
END:DAYLIGHT
BEGIN:STANDARD
TZOFFSETFROM:-0600
TZOFFSETTO:-0700
TZNAME:MST
DTSTART:20251102T080000
END:STANDARD
BEGIN:DAYLIGHT
TZOFFSETFROM:-0700
TZOFFSETTO:-0600
TZNAME:MDT
DTSTART:20260308T090000
END:DAYLIGHT
BEGIN:STANDARD
TZOFFSETFROM:-0600
TZOFFSETTO:-0700
TZNAME:MST
DTSTART:20261101T080000
END:STANDARD
END:VTIMEZONE
BEGIN:VEVENT
DTSTART;TZID=America/Denver:20250425T160000
DTEND;TZID=America/Denver:20250425T200000
DTSTAMP:20260420T062031
CREATED:20250328T214356Z
LAST-MODIFIED:20250328T214356Z
UID:33929-1745596800-1745611200@kwataqnuk.com
SUMMARY:$5000 Monthly Money
DESCRIPTION:$5000 Monthly Money at Big Arm Resort Casino\n\n\nEarn your entries for our $5000 Monthly Money drawings at Big Arm Resort Casino! From Wednesday\, April 2\, to Friday\, June 27\, you have the chance to earn your share of over $5000. Simply earn entries by collecting 250 points at either Kwataqnuk or Big Arm locations. Don’t miss your chance to win big and be part of the grand finale! \n\n\nPromotion Schedule\n\n\nEarned Entry Dates:\n\n\nBegin collecting entries from Wednesday\, April 2\, to Friday\, June 27.\n\n\nDrawing Days and Times:\n\n\nDrawings occur every hour from 4:00 PM to 8:00 PM on the following Fridays:\n\nApril 25\nMay 23\nJune 27\n\n\nMark your calendar for the Grand Finale on Friday\, June 27\, at 9:00 PM\n\n\nHow to Participate\n\n\nTo join the fun\, patrons must actively play a slot machine with a properly inserted SKG Premier Rewards club card during promotional days and hours. One entry is earned for every 250 points collected. Remember\, entries must be printed and placed in the drawing barrel at Big Arm Casino Resort ten minutes before each drawing begins. \n\n\nWinner Details\n\n\nDrawing Days: Five lucky winners will be drawn each day.\nGrand Finale: On June 27\, three winners will share the final amount.\n\n\nWinners must be present to claim their prize and have two minutes to report to the Player’s Club. Failure to do so will result in being added to the Ineligible Players Log. Winners on regular drawing days will receive $225 Xtra Credit\, while the unclaimed amounts will be awarded during the final drawing. During the Grand Finale\, three entries will be drawn\, and the prize pool will be split evenly among verified winners present. \n\n\nImportant Notes\n\n\nPatrons can win multiple times but only once during the final drawing.\nThe drawing barrel will be emptied after the final drawing on June 27.\n\n\nAdditional Information\nFor more information about this promotion and other promotions and club member benefits\, call or visit our friendly Players Club team! \nExplore S&K Gaming\, LLC\nS&K Gaming\, LLC oversees three establishments on the Flathead Indian Reservation! Kwataqnuk Resort & Casino\, Big Arm Resort & Casino\, and Gray Wolf Peak Casino each have something different to offer everyone! From million-dollar views of the pristine Flathead Lake and the Mission Mountains\, dining\, club member benefits\, golf\, gas\, a banquet hall for various events\, and the largest casino in Montana\, S&K Gaming\, LLC has you covered. \nLearn More\nInterested in learning more about S&K Gaming\, LLC and our other locations? Visit our website at https://skgamingllc.com/.
URL:https://kwataqnuk.com/event/5000-monthly-money-2/
CATEGORIES:Promotion
ATTACH;FMTTYPE=image/jpeg:https://kwataqnuk.com/wp-content/uploads/2025/03/monthlymoney-1920x1080-72dpi.jpg
END:VEVENT
END:VCALENDAR