BEGIN:VCALENDAR
VERSION:2.0
PRODID:-//Kwataqnuk - ECPv6.15.20//NONSGML v1.0//EN
CALSCALE:GREGORIAN
METHOD:PUBLISH
X-ORIGINAL-URL:https://kwataqnuk.com
X-WR-CALDESC:Events for Kwataqnuk
REFRESH-INTERVAL;VALUE=DURATION:PT1H
X-Robots-Tag:noindex
X-PUBLISHED-TTL:PT1H
BEGIN:VTIMEZONE
TZID:America/Denver
BEGIN:DAYLIGHT
TZOFFSETFROM:-0700
TZOFFSETTO:-0600
TZNAME:MDT
DTSTART:20240310T090000
END:DAYLIGHT
BEGIN:STANDARD
TZOFFSETFROM:-0600
TZOFFSETTO:-0700
TZNAME:MST
DTSTART:20241103T080000
END:STANDARD
BEGIN:DAYLIGHT
TZOFFSETFROM:-0700
TZOFFSETTO:-0600
TZNAME:MDT
DTSTART:20250309T090000
END:DAYLIGHT
BEGIN:STANDARD
TZOFFSETFROM:-0600
TZOFFSETTO:-0700
TZNAME:MST
DTSTART:20251102T080000
END:STANDARD
BEGIN:DAYLIGHT
TZOFFSETFROM:-0700
TZOFFSETTO:-0600
TZNAME:MDT
DTSTART:20260308T090000
END:DAYLIGHT
BEGIN:STANDARD
TZOFFSETFROM:-0600
TZOFFSETTO:-0700
TZNAME:MST
DTSTART:20261101T080000
END:STANDARD
END:VTIMEZONE
BEGIN:VEVENT
DTSTART;TZID=America/Denver:20250131T180000
DTEND;TZID=America/Denver:20250131T220000
DTSTAMP:20260419T223056
CREATED:20241218T220841Z
LAST-MODIFIED:20241218T220841Z
UID:33626-1738346400-1738360800@kwataqnuk.com
SUMMARY:Friday Fire Hot Seats
DESCRIPTION:Friday Fire Hot Seats – Win Big at Kwataqnuk Resort Casino This January!\n\n\nGet ready to heat up your winter with Kwataqnuk Resort Casino’s Friday Fire Hot Seats! Starting Friday\, January 3rd\, and continuing every other Friday throughout the month\, you have the chance to claim your share of over $3\,500 in cash prizes. With $250 winners selected every hour from 6 PM to 10 PM\, this is an event you won’t want to miss. \n\n\nHow to Participate\n\n\nTo qualify\, simply play your favorite slot machines with your SKG Premier Rewards Card. It’s straightforward and fun! Each hour\, one lucky player will be drawn to win $250 cash. Remember\, you need to be actively playing with your card during the promotional hours to be eligible for the hot seat drawing. \n\n\nKey Event Details\n\n\nDates: Friday\, January 3rd\, 17th\, and 31st\nTime: 6:00 PM – 10:00 PM\nPrize: $250 cash every hour\nEligibility: Must play with an SKG Premier Rewards Card inserted into a slot machine\n\n\nImportant Information\n\n\nWinners will be selected every hour\, and you have two minutes to claim your prize at the Player’s Club. If the prize is not claimed in time\, another winner will be drawn. Don’t worry\, you can win more than once\, so keep playing and increase your chances! \n\n\nMark your calendar and join us for a thrilling experience at Kwataqnuk Resort Casino. With seamless transitions between excitement and reward\, this event promises unforgettable Friday nights! \nAdditional Information\nFor more information about this promotion and other promotions and club member benefits\, call or visit our friendly Players Club team! \nExplore S&K Gaming\, LLC\nS&K Gaming\, LLC oversees three establishments on the Flathead Indian Reservation! Kwataqnuk Resort & Casino\, Big Arm Resort & Casino\, and Gray Wolf Peak Casino each have something different to offer everyone! From million-dollar views of the pristine Flathead Lake and the Mission Mountains\, dining\, club member benefits\, golf\, gas\, a banquet hall for various events\, and the largest casino in Montana\, S&K Gaming\, LLC has you covered. \nLearn More\nInterested in learning more about S&K Gaming\, LLC and our other locations? Visit our website at https://skgamingllc.com/.
URL:https://kwataqnuk.com/event/friday-fire-hot-seats-3/
CATEGORIES:Promotion
ATTACH;FMTTYPE=image/jpeg:https://kwataqnuk.com/wp-content/uploads/2024/12/fridayfirehotseats-1920x1080-1.jpg
END:VEVENT
END:VCALENDAR