BEGIN:VCALENDAR
VERSION:2.0
PRODID:-//Kwataqnuk - ECPv6.15.20//NONSGML v1.0//EN
CALSCALE:GREGORIAN
METHOD:PUBLISH
X-WR-CALNAME:Kwataqnuk
X-ORIGINAL-URL:https://kwataqnuk.com
X-WR-CALDESC:Events for Kwataqnuk
REFRESH-INTERVAL;VALUE=DURATION:PT1H
X-Robots-Tag:noindex
X-PUBLISHED-TTL:PT1H
BEGIN:VTIMEZONE
TZID:America/Denver
BEGIN:DAYLIGHT
TZOFFSETFROM:-0700
TZOFFSETTO:-0600
TZNAME:MDT
DTSTART:20240310T090000
END:DAYLIGHT
BEGIN:STANDARD
TZOFFSETFROM:-0600
TZOFFSETTO:-0700
TZNAME:MST
DTSTART:20241103T080000
END:STANDARD
BEGIN:DAYLIGHT
TZOFFSETFROM:-0700
TZOFFSETTO:-0600
TZNAME:MDT
DTSTART:20250309T090000
END:DAYLIGHT
BEGIN:STANDARD
TZOFFSETFROM:-0600
TZOFFSETTO:-0700
TZNAME:MST
DTSTART:20251102T080000
END:STANDARD
BEGIN:DAYLIGHT
TZOFFSETFROM:-0700
TZOFFSETTO:-0600
TZNAME:MDT
DTSTART:20260308T090000
END:DAYLIGHT
BEGIN:STANDARD
TZOFFSETFROM:-0600
TZOFFSETTO:-0700
TZNAME:MST
DTSTART:20261101T080000
END:STANDARD
END:VTIMEZONE
BEGIN:VEVENT
DTSTART;VALUE=DATE:20250120
DTEND;VALUE=DATE:20250121
DTSTAMP:20260420T014857
CREATED:20241218T184805Z
LAST-MODIFIED:20241218T184806Z
UID:33607-1737331200-1737417599@kwataqnuk.com
SUMMARY:3X Points MLK Day Special
DESCRIPTION:3X Points MLK Day Special\n\n\nVisit Gray Wolf Peak Casino or Kwataqnuk Resort & Casino on Monday\, January 20th\, for our 3X Points MLK Day Special! Earn triple points in honor of Martin Luther King Jr. Day! This special promotion offers a unique opportunity to boost your rewards while enjoying your favorite games. \n\n\nPromotional Eligibility Requirements\n\n\nTo take advantage of the triple points offer\, ensure you engage in gameplay using your Player’s Club card. Make sure your card is correctly inserted into your gaming machine on Monday\, January 20th\, during the casino’s regular operating hours. Don’t miss out on this exciting chance to enhance your experience and rewards! \n\n\nGeneral Requirements\n\n\nTo participate and qualify for this promotion\, keep the following requirements in mind: \n\n\nAge and Identification: Participants must be at least 18 years old and present valid photo identification along with proof of a social security number.\nMembership: You must be a member of the SKG Premier Rewards Club.\nCard Responsibility: S&K Gaming\, LLC is not liable for lost\, stolen\, or damaged club cards\, nor for cards improperly inserted into machines.\nEmployee Restrictions: Employees of S&K Gaming\, LLC are not eligible for any promotions hosted by SKG Premier Rewards.\nPrize Redemption: Prizes are non-transferable and can only be redeemed by the SKG Premier Rewards member to whom they were issued.\n\n\nImportant Notes\n\n\nManagement reserves all rights to cancel\, modify\, or change this promotion at any time\, with notification to the Gaming Commission.\nWinners are responsible for all applicable reporting and taxes.\n\n\nTake this opportunity to enjoy an enhanced gaming experience while celebrating Martin Luther King Jr. Day. Join us at either Gray Wolf Peak Casino or Kwataqnuk Resort & Casino and maximize your points! \nAdditional Information\nFor more information about this promotion and other promotions and club member benefits\, call or visit our friendly Players Club team! \nExplore S&K Gaming\, LLC\nS&K Gaming\, LLC oversees three establishments on the Flathead Indian Reservation! Kwataqnuk Resort & Casino\, Big Arm Resort & Casino\, and Gray Wolf Peak Casino each have something different to offer everyone! From million-dollar views of the pristine Flathead Lake and the Mission Mountains\, dining\, club member benefits\, golf\, gas\, a banquet hall for various events\, and the largest casino in Montana\, S&K Gaming\, LLC has you covered. \nLearn More\nInterested in learning more about S&K Gaming\, LLC and our other locations? Visit our website at https://skgamingllc.com/.
URL:https://kwataqnuk.com/event/3x-points-mlk-day-special/
CATEGORIES:Promotion
ATTACH;FMTTYPE=image/jpeg:https://kwataqnuk.com/wp-content/uploads/2024/12/3xpointsmlkdayspecial-1920x1080-1.jpg
END:VEVENT
BEGIN:VEVENT
DTSTART;TZID=America/Denver:20250120T100000
DTEND;TZID=America/Denver:20250120T170000
DTSTAMP:20260420T014857
CREATED:20241028T194919Z
LAST-MODIFIED:20241218T180710Z
UID:33534-1737367200-1737392400@kwataqnuk.com
SUMMARY:Hometown Heroes
DESCRIPTION:Honoring Hometown Heroes – Join us at Gray Wolf Peak Casino and Kwataqnuk Resort & Casino as we honor our Hometown Heroes\, including veterans and first responders. This offer takes place every Monday from November through January\, running from 10 AM to 5 PM. As a participant\, you have the opportunity to choose your reward: $10 Xtra Credit\, $10 Dining Credit\, or $10 Drink Credit. To redeem your reward\, simply earn 25 points and visit the Players Club. Remember\, you can claim one reward per person per day. Celebrate with us and enjoy great rewards! \n\n\nPromotional Eligibility Requirements\n\n\nTo be eligible for this promotion\, you need to be an SKG Premier Rewards member with valid photo ID and military service identification or first responder identification. Here’s what you’ll need: \n\n\nVeterans: Accepted forms of identification include a Common Access Card\, Retired Military ID\, DD Form 2 Card or DD Form 214\, VFW\, AMVETS\, Vietnam Veterans of America Membership Card\, Disabled American Veterans Membership Card\, or a VA Identification Card.\nFirst Responders: You can present an Employee ID\, Accountability Tag\, or Medical License accompanied by a photo ID.\n\n\nEligible patrons must be actively playing a slot machine with a properly inserted SKG Premier Rewards club card during the promotional days and hours to accumulate points. Earn 25 points to select one of the following rewards: $10 Xtra Credit\, $10 Dining Credit\, or $10 Drink Credit. \n\n\nThis exclusive promotion is available only on Mondays from November 4\, 2024\, to January 27\, 2025\, between 10:00 AM and 5:00 PM. Please note that you can redeem this offer only once per person per day. To claim your Xtra Credit\, Drink Voucher\, or Dining Voucher\, ensure you visit the Players Club within the promotional timeframe. The Xtra Credit is valid for 24 hours after issuance and must be used at the location where the points were earned. \n\n\nCelebrate our heroes and enjoy the rewards at Gray Wolf Peak Casino and Kwataqnuk Resort & Casino! \n\nAdditional Information\n\n\nFor more information about this promotion and other promotions and club member benefits\, call or visit our friendly Players Club team! \n\n\nExplore S&K Gaming\, LLC\n\n\nS&K Gaming\, LLC oversees three establishments on the Flathead Indian Reservation! Kwataqnuk Resort & Casino\, Big Arm Resort & Casino\, and Gray Wolf Peak Casino each have something different to offer everyone! From million-dollar views of the pristine Flathead Lake and the Mission Mountains\, dining\, club member benefits\, golf\, gas\, a banquet hall for various events\, and the largest casino in Montana\, S&K Gaming\, LLC has you covered. \n\n\nLearn More\n\n\nInterested in learning more about S&K Gaming\, LLC and our other locations? Visit our website at https://skgamingllc.com/.
URL:https://kwataqnuk.com/event/hometown-heroes-12/
CATEGORIES:dining,Promotion
ATTACH;FMTTYPE=image/jpeg:https://kwataqnuk.com/wp-content/uploads/2024/12/hometownheroes-1920x1080-1.jpg
END:VEVENT
END:VCALENDAR