BEGIN:VCALENDAR
VERSION:2.0
PRODID:-//Kwataqnuk - ECPv6.15.20//NONSGML v1.0//EN
CALSCALE:GREGORIAN
METHOD:PUBLISH
X-WR-CALNAME:Kwataqnuk
X-ORIGINAL-URL:https://kwataqnuk.com
X-WR-CALDESC:Events for Kwataqnuk
REFRESH-INTERVAL;VALUE=DURATION:PT1H
X-Robots-Tag:noindex
X-PUBLISHED-TTL:PT1H
BEGIN:VTIMEZONE
TZID:America/Denver
BEGIN:DAYLIGHT
TZOFFSETFROM:-0700
TZOFFSETTO:-0600
TZNAME:MDT
DTSTART:20240310T090000
END:DAYLIGHT
BEGIN:STANDARD
TZOFFSETFROM:-0600
TZOFFSETTO:-0700
TZNAME:MST
DTSTART:20241103T080000
END:STANDARD
BEGIN:DAYLIGHT
TZOFFSETFROM:-0700
TZOFFSETTO:-0600
TZNAME:MDT
DTSTART:20250309T090000
END:DAYLIGHT
BEGIN:STANDARD
TZOFFSETFROM:-0600
TZOFFSETTO:-0700
TZNAME:MST
DTSTART:20251102T080000
END:STANDARD
BEGIN:DAYLIGHT
TZOFFSETFROM:-0700
TZOFFSETTO:-0600
TZNAME:MDT
DTSTART:20260308T090000
END:DAYLIGHT
BEGIN:STANDARD
TZOFFSETFROM:-0600
TZOFFSETTO:-0700
TZNAME:MST
DTSTART:20261101T080000
END:STANDARD
END:VTIMEZONE
BEGIN:VEVENT
DTSTART;TZID=America/Denver:20250203T100000
DTEND;TZID=America/Denver:20250203T170000
DTSTAMP:20260419T235055
CREATED:20250129T212122Z
LAST-MODIFIED:20250129T212122Z
UID:33747-1738576800-1738602000@kwataqnuk.com
SUMMARY:Hometown Heroes
DESCRIPTION:Honoring Hometown Heroes – Join us at Gray Wolf Peak Casino and Kwataqnuk Resort & Casino as we honor our Hometown Heroes\, including veterans and first responders. This offer takes place every Monday from 10 AM to 5 PM. As a participant\, you have the opportunity to choose your reward: $10 Xtra Credit\, $10 Dining Credit\, or $10 Drink Credit. To redeem your reward\, simply earn 25 points and visit the Players Club. Remember\, you can claim one reward per person per day. Celebrate with us and enjoy great rewards! \n\n\nPromotional Eligibility Requirements\n\n\nTo be eligible for this promotion\, you need to be an SKG Premier Rewards member with valid photo ID and military service identification or first responder identification. Here’s what you’ll need: \n\n\nVeterans: Accepted forms of identification include a Common Access Card\, Retired Military ID\, DD Form 2 Card or DD Form 214\, VFW\, AMVETS\, Vietnam Veterans of America Membership Card\, Disabled American Veterans Membership Card\, or a VA Identification Card.\nFirst Responders: You can present an Employee ID\, Accountability Tag\, or Medical License accompanied by a photo ID.\n\n\nEligible patrons must be actively playing a slot machine with a properly inserted SKG Premier Rewards club card during the promotional days and hours to accumulate points. Earn 25 points to select one of the following rewards: $10 Xtra Credit\, $10 Dining Credit\, or $10 Drink Credit. \n\n\nThis exclusive promotion is available only on Mondays between 10:00 AM and 5:00 PM. Please note that you can redeem this offer only once per person per day. To claim your Xtra Credit\, Drink Voucher\, or Dining Voucher\, ensure you visit the Players Club within the promotional timeframe. The Xtra Credit is valid for 24 hours after issuance and must be used at the location where the points were earned. \n\n\nCelebrate our heroes and enjoy the rewards at Gray Wolf Peak Casino and Kwataqnuk Resort & Casino! \n\nAdditional Information\n\n\nFor more information about this promotion and other promotions and club member benefits\, call or visit our friendly Players Club team! \n\n\nExplore S&K Gaming\, LLC\n\n\nS&K Gaming\, LLC oversees three establishments on the Flathead Indian Reservation! Kwataqnuk Resort & Casino\, Big Arm Resort & Casino\, and Gray Wolf Peak Casino each have something different to offer everyone! From million-dollar views of the pristine Flathead Lake and the Mission Mountains\, dining\, club member benefits\, golf\, gas\, a banquet hall for various events\, and the largest casino in Montana\, S&K Gaming\, LLC has you covered. \n\n\nLearn More\n\n\nInterested in learning more about S&K Gaming\, LLC and our other locations? Visit our website at https://skgamingllc.com/.
URL:https://kwataqnuk.com/event/hometown-heroes-14/
CATEGORIES:dining,Promotion
ATTACH;FMTTYPE=image/jpeg:https://kwataqnuk.com/wp-content/uploads/2024/12/hometownheroes-1920x1080-1.jpg
END:VEVENT
BEGIN:VEVENT
DTSTART;TZID=America/Denver:20250205T090000
DTEND;TZID=America/Denver:20250205T170000
DTSTAMP:20260419T235055
CREATED:20250117T203911Z
LAST-MODIFIED:20250117T203911Z
UID:33698-1738746000-1738774800@kwataqnuk.com
SUMMARY:Forever Young - Kwataqnuk
DESCRIPTION:Forever Young – Kwataqnuk \nStay Forever Young at Kwataqnuk Resort & Casino! \nWe are calling all SKG Premier Rewards members ages 50 and older! Did you know that if you visit Kwataqnuk Resort & Casino on Wednesdays from 9am to 5pm and earn 50 points\, you can redeem a $10 food credit to Falling Waters Bar & Grill? It’s true! To earn points\, you just have to be carded in while playing! Have questions? Please\, stop in and visit our friendly players club representatives for details. If you are interested in viewing the Falling Waters Bar & Grill menu\, you can click this MENU LINK! \nBut wait! There’s more! You can also take advantage of this great offer at any of our S&K Gaming locations! That’s right\, you can earn 50 points at Big Arm Resort & Casino and at Gray Wolf Peak Casino to redeem a $10 dining credit to LASSAW or Big Arm Restuarant! \nStay Forever Young at Big Arm Resort & Casino on THURSDAYS! Big Arm Casino is open from 12:00pm to 10:00pm\, and the restaurant is open from 12:00pm to 9:00pm. Here is the current Big Arm Restaurant MENU. \nOr stay Forever Young at Gray Wolf Peak Casino on TUESDAYS! Gray Wolf Peak Casino’s operating hours are every day from 10:00am to 2:00am. Here is the current Lassaw MENU. \n 
URL:https://kwataqnuk.com/event/forever-young-kwataqnuk-41/
CATEGORIES:dining,Promotion
ATTACH;FMTTYPE=image/jpeg:https://kwataqnuk.com/wp-content/uploads/2024/12/foreveryoung-1920x1080-2.jpg
END:VEVENT
BEGIN:VEVENT
DTSTART;TZID=America/Denver:20250210T100000
DTEND;TZID=America/Denver:20250210T170000
DTSTAMP:20260419T235055
CREATED:20250129T212200Z
LAST-MODIFIED:20250129T212200Z
UID:33749-1739181600-1739206800@kwataqnuk.com
SUMMARY:Hometown Heroes
DESCRIPTION:Honoring Hometown Heroes – Join us at Gray Wolf Peak Casino and Kwataqnuk Resort & Casino as we honor our Hometown Heroes\, including veterans and first responders. This offer takes place every Monday from 10 AM to 5 PM. As a participant\, you have the opportunity to choose your reward: $10 Xtra Credit\, $10 Dining Credit\, or $10 Drink Credit. To redeem your reward\, simply earn 25 points and visit the Players Club. Remember\, you can claim one reward per person per day. Celebrate with us and enjoy great rewards! \n\n\nPromotional Eligibility Requirements\n\n\nTo be eligible for this promotion\, you need to be an SKG Premier Rewards member with valid photo ID and military service identification or first responder identification. Here’s what you’ll need: \n\n\nVeterans: Accepted forms of identification include a Common Access Card\, Retired Military ID\, DD Form 2 Card or DD Form 214\, VFW\, AMVETS\, Vietnam Veterans of America Membership Card\, Disabled American Veterans Membership Card\, or a VA Identification Card.\nFirst Responders: You can present an Employee ID\, Accountability Tag\, or Medical License accompanied by a photo ID.\n\n\nEligible patrons must be actively playing a slot machine with a properly inserted SKG Premier Rewards club card during the promotional days and hours to accumulate points. Earn 25 points to select one of the following rewards: $10 Xtra Credit\, $10 Dining Credit\, or $10 Drink Credit. \n\n\nThis exclusive promotion is available only on Mondays between 10:00 AM and 5:00 PM. Please note that you can redeem this offer only once per person per day. To claim your Xtra Credit\, Drink Voucher\, or Dining Voucher\, ensure you visit the Players Club within the promotional timeframe. The Xtra Credit is valid for 24 hours after issuance and must be used at the location where the points were earned. \n\n\nCelebrate our heroes and enjoy the rewards at Gray Wolf Peak Casino and Kwataqnuk Resort & Casino! \n\nAdditional Information\n\n\nFor more information about this promotion and other promotions and club member benefits\, call or visit our friendly Players Club team! \n\n\nExplore S&K Gaming\, LLC\n\n\nS&K Gaming\, LLC oversees three establishments on the Flathead Indian Reservation! Kwataqnuk Resort & Casino\, Big Arm Resort & Casino\, and Gray Wolf Peak Casino each have something different to offer everyone! From million-dollar views of the pristine Flathead Lake and the Mission Mountains\, dining\, club member benefits\, golf\, gas\, a banquet hall for various events\, and the largest casino in Montana\, S&K Gaming\, LLC has you covered. \n\n\nLearn More\n\n\nInterested in learning more about S&K Gaming\, LLC and our other locations? Visit our website at https://skgamingllc.com/.
URL:https://kwataqnuk.com/event/hometown-heroes-15/
CATEGORIES:dining,Promotion
ATTACH;FMTTYPE=image/jpeg:https://kwataqnuk.com/wp-content/uploads/2024/12/hometownheroes-1920x1080-1.jpg
END:VEVENT
BEGIN:VEVENT
DTSTART;TZID=America/Denver:20250212T090000
DTEND;TZID=America/Denver:20250212T170000
DTSTAMP:20260419T235055
CREATED:20250117T204156Z
LAST-MODIFIED:20250117T204156Z
UID:33700-1739350800-1739379600@kwataqnuk.com
SUMMARY:Forever Young - Kwataqnuk
DESCRIPTION:Forever Young – Kwataqnuk \nStay Forever Young at Kwataqnuk Resort & Casino! \nWe are calling all SKG Premier Rewards members ages 50 and older! Did you know that if you visit Kwataqnuk Resort & Casino on Wednesdays from 9am to 5pm and earn 50 points\, you can redeem a $10 food credit to Falling Waters Bar & Grill? It’s true! To earn points\, you just have to be carded in while playing! Have questions? Please\, stop in and visit our friendly players club representatives for details. If you are interested in viewing the Falling Waters Bar & Grill menu\, you can click this MENU LINK! \nBut wait! There’s more! You can also take advantage of this great offer at any of our S&K Gaming locations! That’s right\, you can earn 50 points at Big Arm Resort & Casino and at Gray Wolf Peak Casino to redeem a $10 dining credit to LASSAW or Big Arm Restuarant! \nStay Forever Young at Big Arm Resort & Casino on THURSDAYS! Big Arm Casino is open from 12:00pm to 10:00pm\, and the restaurant is open from 12:00pm to 9:00pm. Here is the current Big Arm Restaurant MENU. \nOr stay Forever Young at Gray Wolf Peak Casino on TUESDAYS! Gray Wolf Peak Casino’s operating hours are every day from 10:00am to 2:00am. Here is the current Lassaw MENU. \n 
URL:https://kwataqnuk.com/event/forever-young-kwataqnuk-42/
CATEGORIES:dining,Promotion
ATTACH;FMTTYPE=image/jpeg:https://kwataqnuk.com/wp-content/uploads/2024/12/foreveryoung-1920x1080-2.jpg
END:VEVENT
BEGIN:VEVENT
DTSTART;TZID=America/Denver:20250217T090000
DTEND;TZID=America/Denver:20250217T140000
DTSTAMP:20260419T235055
CREATED:20250124T221301Z
LAST-MODIFIED:20250124T221302Z
UID:33711-1739782800-1739800800@kwataqnuk.com
SUMMARY:President's Day Xtra Credit Bonus
DESCRIPTION:President’s Day Xtra Credit Bonus\n\n\nCelebrate by redeeming a $15 President’s Day Xtra Credit Bonus! On February 17th\, visit Gray Wolf Peak Casino or Kwataqnuk Resort & Casino from opening until 2 PM to take advantage of our special offer. As a valued SKG Premier Rewards Member\, you’ll receive $15 in Xtra Credit\, a limited-time opportunity! \n\n\nHow to Redeem Your Xtra Credit\n\n\nTo participate\, simply present a valid photo ID at our location. Make sure you are an active SKG Premier Rewards member to be eligible for this promotion. Remember\, this offer is available once per person\, so don’t miss out! Once issued\, your Xtra Credit will be valid for 24 hours. \n\n\nEligibility Requirements\n\n\nMust be 18 years or older.\nPresent a valid photo ID and proof of your social security number.\nBe an SKG Premier Rewards Club member.\n\n\nImportant Information\n\n\nS&K Gaming\, LLC holds no responsibility for lost\, stolen\, or damaged club cards.\nEnsure correct card insertion to avoid any issues.\nEmployees of S&K Gaming\, LLC cannot participate in this promotion.\nPrizes are non-transferable and must be redeemed by the member to whom they were issued.\nManagement reserves the right to cancel\, change\, or modify this promotion at any time\, with notification to the Gaming Commission.\nWinners are responsible for all applicable reporting and taxes.\n\n\nJoin us for this exciting event and make the most of your SKG Premier Rewards Membership! We look forward to celebrating with you and offering these exclusive benefits in honor of Presidents Day. \nAdditional Information\nFor more information about this promotion and other promotions and club member benefits\, call or visit our friendly Players Club team! \nExplore S&K Gaming\, LLC\nS&K Gaming\, LLC oversees three establishments on the Flathead Indian Reservation! Kwataqnuk Resort & Casino\, Big Arm Resort & Casino\, and Gray Wolf Peak Casino each have something different to offer everyone! From million-dollar views of the pristine Flathead Lake and the Mission Mountains\, dining\, club member benefits\, golf\, gas\, a banquet hall for various events\, and the largest casino in Montana\, S&K Gaming\, LLC has you covered. \nLearn More\nInterested in learning more about S&K Gaming\, LLC and our other locations? Visit our website at https://skgamingllc.com/.
URL:https://kwataqnuk.com/event/presidents-day-xtra-credit-bonus/
CATEGORIES:Promotion
ATTACH;FMTTYPE=image/jpeg:https://kwataqnuk.com/wp-content/uploads/2025/01/presidentsday-1920x1080-300dpi.jpg
END:VEVENT
BEGIN:VEVENT
DTSTART;TZID=America/Denver:20250217T100000
DTEND;TZID=America/Denver:20250217T170000
DTSTAMP:20260419T235055
CREATED:20250129T212222Z
LAST-MODIFIED:20250129T212222Z
UID:33751-1739786400-1739811600@kwataqnuk.com
SUMMARY:Hometown Heroes
DESCRIPTION:Honoring Hometown Heroes – Join us at Gray Wolf Peak Casino and Kwataqnuk Resort & Casino as we honor our Hometown Heroes\, including veterans and first responders. This offer takes place every Monday from 10 AM to 5 PM. As a participant\, you have the opportunity to choose your reward: $10 Xtra Credit\, $10 Dining Credit\, or $10 Drink Credit. To redeem your reward\, simply earn 25 points and visit the Players Club. Remember\, you can claim one reward per person per day. Celebrate with us and enjoy great rewards! \n\n\nPromotional Eligibility Requirements\n\n\nTo be eligible for this promotion\, you need to be an SKG Premier Rewards member with valid photo ID and military service identification or first responder identification. Here’s what you’ll need: \n\n\nVeterans: Accepted forms of identification include a Common Access Card\, Retired Military ID\, DD Form 2 Card or DD Form 214\, VFW\, AMVETS\, Vietnam Veterans of America Membership Card\, Disabled American Veterans Membership Card\, or a VA Identification Card.\nFirst Responders: You can present an Employee ID\, Accountability Tag\, or Medical License accompanied by a photo ID.\n\n\nEligible patrons must be actively playing a slot machine with a properly inserted SKG Premier Rewards club card during the promotional days and hours to accumulate points. Earn 25 points to select one of the following rewards: $10 Xtra Credit\, $10 Dining Credit\, or $10 Drink Credit. \n\n\nThis exclusive promotion is available only on Mondays between 10:00 AM and 5:00 PM. Please note that you can redeem this offer only once per person per day. To claim your Xtra Credit\, Drink Voucher\, or Dining Voucher\, ensure you visit the Players Club within the promotional timeframe. The Xtra Credit is valid for 24 hours after issuance and must be used at the location where the points were earned. \n\n\nCelebrate our heroes and enjoy the rewards at Gray Wolf Peak Casino and Kwataqnuk Resort & Casino! \n\nAdditional Information\n\n\nFor more information about this promotion and other promotions and club member benefits\, call or visit our friendly Players Club team! \n\n\nExplore S&K Gaming\, LLC\n\n\nS&K Gaming\, LLC oversees three establishments on the Flathead Indian Reservation! Kwataqnuk Resort & Casino\, Big Arm Resort & Casino\, and Gray Wolf Peak Casino each have something different to offer everyone! From million-dollar views of the pristine Flathead Lake and the Mission Mountains\, dining\, club member benefits\, golf\, gas\, a banquet hall for various events\, and the largest casino in Montana\, S&K Gaming\, LLC has you covered. \n\n\nLearn More\n\n\nInterested in learning more about S&K Gaming\, LLC and our other locations? Visit our website at https://skgamingllc.com/.
URL:https://kwataqnuk.com/event/hometown-heroes-16/
CATEGORIES:dining,Promotion
ATTACH;FMTTYPE=image/jpeg:https://kwataqnuk.com/wp-content/uploads/2024/12/hometownheroes-1920x1080-1.jpg
END:VEVENT
BEGIN:VEVENT
DTSTART;TZID=America/Denver:20250219T090000
DTEND;TZID=America/Denver:20250219T170000
DTSTAMP:20260419T235055
CREATED:20250117T204226Z
LAST-MODIFIED:20250117T204226Z
UID:33702-1739955600-1739984400@kwataqnuk.com
SUMMARY:Forever Young - Kwataqnuk
DESCRIPTION:Forever Young – Kwataqnuk \nStay Forever Young at Kwataqnuk Resort & Casino! \nWe are calling all SKG Premier Rewards members ages 50 and older! Did you know that if you visit Kwataqnuk Resort & Casino on Wednesdays from 9am to 5pm and earn 50 points\, you can redeem a $10 food credit to Falling Waters Bar & Grill? It’s true! To earn points\, you just have to be carded in while playing! Have questions? Please\, stop in and visit our friendly players club representatives for details. If you are interested in viewing the Falling Waters Bar & Grill menu\, you can click this MENU LINK! \nBut wait! There’s more! You can also take advantage of this great offer at any of our S&K Gaming locations! That’s right\, you can earn 50 points at Big Arm Resort & Casino and at Gray Wolf Peak Casino to redeem a $10 dining credit to LASSAW or Big Arm Restuarant! \nStay Forever Young at Big Arm Resort & Casino on THURSDAYS! Big Arm Casino is open from 12:00pm to 10:00pm\, and the restaurant is open from 12:00pm to 9:00pm. Here is the current Big Arm Restaurant MENU. \nOr stay Forever Young at Gray Wolf Peak Casino on TUESDAYS! Gray Wolf Peak Casino’s operating hours are every day from 10:00am to 2:00am. Here is the current Lassaw MENU. \n 
URL:https://kwataqnuk.com/event/forever-young-kwataqnuk-43/
CATEGORIES:dining,Promotion
ATTACH;FMTTYPE=image/jpeg:https://kwataqnuk.com/wp-content/uploads/2024/12/foreveryoung-1920x1080-2.jpg
END:VEVENT
BEGIN:VEVENT
DTSTART;TZID=America/Denver:20250224T100000
DTEND;TZID=America/Denver:20250224T170000
DTSTAMP:20260419T235055
CREATED:20250129T212242Z
LAST-MODIFIED:20250129T212242Z
UID:33753-1740391200-1740416400@kwataqnuk.com
SUMMARY:Hometown Heroes
DESCRIPTION:Honoring Hometown Heroes – Join us at Gray Wolf Peak Casino and Kwataqnuk Resort & Casino as we honor our Hometown Heroes\, including veterans and first responders. This offer takes place every Monday from 10 AM to 5 PM. As a participant\, you have the opportunity to choose your reward: $10 Xtra Credit\, $10 Dining Credit\, or $10 Drink Credit. To redeem your reward\, simply earn 25 points and visit the Players Club. Remember\, you can claim one reward per person per day. Celebrate with us and enjoy great rewards! \n\n\nPromotional Eligibility Requirements\n\n\nTo be eligible for this promotion\, you need to be an SKG Premier Rewards member with valid photo ID and military service identification or first responder identification. Here’s what you’ll need: \n\n\nVeterans: Accepted forms of identification include a Common Access Card\, Retired Military ID\, DD Form 2 Card or DD Form 214\, VFW\, AMVETS\, Vietnam Veterans of America Membership Card\, Disabled American Veterans Membership Card\, or a VA Identification Card.\nFirst Responders: You can present an Employee ID\, Accountability Tag\, or Medical License accompanied by a photo ID.\n\n\nEligible patrons must be actively playing a slot machine with a properly inserted SKG Premier Rewards club card during the promotional days and hours to accumulate points. Earn 25 points to select one of the following rewards: $10 Xtra Credit\, $10 Dining Credit\, or $10 Drink Credit. \n\n\nThis exclusive promotion is available only on Mondays between 10:00 AM and 5:00 PM. Please note that you can redeem this offer only once per person per day. To claim your Xtra Credit\, Drink Voucher\, or Dining Voucher\, ensure you visit the Players Club within the promotional timeframe. The Xtra Credit is valid for 24 hours after issuance and must be used at the location where the points were earned. \n\n\nCelebrate our heroes and enjoy the rewards at Gray Wolf Peak Casino and Kwataqnuk Resort & Casino! \n\nAdditional Information\n\n\nFor more information about this promotion and other promotions and club member benefits\, call or visit our friendly Players Club team! \n\n\nExplore S&K Gaming\, LLC\n\n\nS&K Gaming\, LLC oversees three establishments on the Flathead Indian Reservation! Kwataqnuk Resort & Casino\, Big Arm Resort & Casino\, and Gray Wolf Peak Casino each have something different to offer everyone! From million-dollar views of the pristine Flathead Lake and the Mission Mountains\, dining\, club member benefits\, golf\, gas\, a banquet hall for various events\, and the largest casino in Montana\, S&K Gaming\, LLC has you covered. \n\n\nLearn More\n\n\nInterested in learning more about S&K Gaming\, LLC and our other locations? Visit our website at https://skgamingllc.com/.
URL:https://kwataqnuk.com/event/hometown-heroes-17/
CATEGORIES:dining,Promotion
ATTACH;FMTTYPE=image/jpeg:https://kwataqnuk.com/wp-content/uploads/2024/12/hometownheroes-1920x1080-1.jpg
END:VEVENT
BEGIN:VEVENT
DTSTART;TZID=America/Denver:20250226T090000
DTEND;TZID=America/Denver:20250226T170000
DTSTAMP:20260419T235055
CREATED:20250117T204246Z
LAST-MODIFIED:20250117T204246Z
UID:33704-1740560400-1740589200@kwataqnuk.com
SUMMARY:Forever Young - Kwataqnuk
DESCRIPTION:Forever Young – Kwataqnuk \nStay Forever Young at Kwataqnuk Resort & Casino! \nWe are calling all SKG Premier Rewards members ages 50 and older! Did you know that if you visit Kwataqnuk Resort & Casino on Wednesdays from 9am to 5pm and earn 50 points\, you can redeem a $10 food credit to Falling Waters Bar & Grill? It’s true! To earn points\, you just have to be carded in while playing! Have questions? Please\, stop in and visit our friendly players club representatives for details. If you are interested in viewing the Falling Waters Bar & Grill menu\, you can click this MENU LINK! \nBut wait! There’s more! You can also take advantage of this great offer at any of our S&K Gaming locations! That’s right\, you can earn 50 points at Big Arm Resort & Casino and at Gray Wolf Peak Casino to redeem a $10 dining credit to LASSAW or Big Arm Restuarant! \nStay Forever Young at Big Arm Resort & Casino on THURSDAYS! Big Arm Casino is open from 12:00pm to 10:00pm\, and the restaurant is open from 12:00pm to 9:00pm. Here is the current Big Arm Restaurant MENU. \nOr stay Forever Young at Gray Wolf Peak Casino on TUESDAYS! Gray Wolf Peak Casino’s operating hours are every day from 10:00am to 2:00am. Here is the current Lassaw MENU. \n 
URL:https://kwataqnuk.com/event/forever-young-kwataqnuk-44/
CATEGORIES:dining,Promotion
ATTACH;FMTTYPE=image/jpeg:https://kwataqnuk.com/wp-content/uploads/2024/12/foreveryoung-1920x1080-2.jpg
END:VEVENT
END:VCALENDAR