BEGIN:VCALENDAR
VERSION:2.0
PRODID:-//Kwataqnuk - ECPv6.15.20//NONSGML v1.0//EN
CALSCALE:GREGORIAN
METHOD:PUBLISH
X-WR-CALNAME:Kwataqnuk
X-ORIGINAL-URL:https://kwataqnuk.com
X-WR-CALDESC:Events for Kwataqnuk
REFRESH-INTERVAL;VALUE=DURATION:PT1H
X-Robots-Tag:noindex
X-PUBLISHED-TTL:PT1H
BEGIN:VTIMEZONE
TZID:America/Denver
BEGIN:DAYLIGHT
TZOFFSETFROM:-0700
TZOFFSETTO:-0600
TZNAME:MDT
DTSTART:20230312T090000
END:DAYLIGHT
BEGIN:STANDARD
TZOFFSETFROM:-0600
TZOFFSETTO:-0700
TZNAME:MST
DTSTART:20231105T080000
END:STANDARD
BEGIN:DAYLIGHT
TZOFFSETFROM:-0700
TZOFFSETTO:-0600
TZNAME:MDT
DTSTART:20240310T090000
END:DAYLIGHT
BEGIN:STANDARD
TZOFFSETFROM:-0600
TZOFFSETTO:-0700
TZNAME:MST
DTSTART:20241103T080000
END:STANDARD
BEGIN:DAYLIGHT
TZOFFSETFROM:-0700
TZOFFSETTO:-0600
TZNAME:MDT
DTSTART:20250309T090000
END:DAYLIGHT
BEGIN:STANDARD
TZOFFSETFROM:-0600
TZOFFSETTO:-0700
TZNAME:MST
DTSTART:20251102T080000
END:STANDARD
END:VTIMEZONE
BEGIN:VEVENT
DTSTART;TZID=America/Denver:20240808T190000
DTEND;TZID=America/Denver:20240808T220000
DTSTAMP:20260420T161948
CREATED:20240729T161920Z
LAST-MODIFIED:20240729T163442Z
UID:33110-1723143600-1723154400@kwataqnuk.com
SUMMARY:Rock the Dock - Sunlight Black
DESCRIPTION:Rock the Dock – Sunlight Black \nSunlight Black will be performing in our Rock the Dock Summer Concert Series at Kwataqnuk Resort & Casino!  Our summer concert series is open to the public\, so bring the family out for free live entertainment\, plus dinner and drink specials! With a view like ours\, who wouldn’t want to spend an evening dancing on the patio! \nOur Rock the Dock summer concert series will occur Thursdays and Fridays throughout June\, July\, and August\, so keep an eye out for our schedule! All live music starts at 7:00 PM\, *schedule is subject to change. \nWe will see you out on the patio just outside of Falling Waters Bar & Grill!
URL:https://kwataqnuk.com/event/rock-the-dock-sunlight-black-2/
CATEGORIES:event,Live Music,Music
ATTACH;FMTTYPE=image/jpeg:https://kwataqnuk.com/wp-content/uploads/2024/07/ROCK_THE_DOCK_1920x1080TV_8_8.jpg
END:VEVENT
END:VCALENDAR