BEGIN:VCALENDAR
VERSION:2.0
PRODID:-//Kwataqnuk - ECPv6.15.20//NONSGML v1.0//EN
CALSCALE:GREGORIAN
METHOD:PUBLISH
X-ORIGINAL-URL:https://kwataqnuk.com
X-WR-CALDESC:Events for Kwataqnuk
REFRESH-INTERVAL;VALUE=DURATION:PT1H
X-Robots-Tag:noindex
X-PUBLISHED-TTL:PT1H
BEGIN:VTIMEZONE
TZID:America/Denver
BEGIN:DAYLIGHT
TZOFFSETFROM:-0700
TZOFFSETTO:-0600
TZNAME:MDT
DTSTART:20230312T090000
END:DAYLIGHT
BEGIN:STANDARD
TZOFFSETFROM:-0600
TZOFFSETTO:-0700
TZNAME:MST
DTSTART:20231105T080000
END:STANDARD
BEGIN:DAYLIGHT
TZOFFSETFROM:-0700
TZOFFSETTO:-0600
TZNAME:MDT
DTSTART:20240310T090000
END:DAYLIGHT
BEGIN:STANDARD
TZOFFSETFROM:-0600
TZOFFSETTO:-0700
TZNAME:MST
DTSTART:20241103T080000
END:STANDARD
BEGIN:DAYLIGHT
TZOFFSETFROM:-0700
TZOFFSETTO:-0600
TZNAME:MDT
DTSTART:20250309T090000
END:DAYLIGHT
BEGIN:STANDARD
TZOFFSETFROM:-0600
TZOFFSETTO:-0700
TZNAME:MST
DTSTART:20251102T080000
END:STANDARD
END:VTIMEZONE
BEGIN:VEVENT
DTSTART;TZID=America/Denver:20240627T190000
DTEND;TZID=America/Denver:20240627T230000
DTSTAMP:20260420T232204
CREATED:20240529T223615Z
LAST-MODIFIED:20240618T220431Z
UID:32905-1719514800-1719529200@kwataqnuk.com
SUMMARY:Rock the Dock - Sunlight Black
DESCRIPTION:Rock the Dock – Sunlight Black \nSunlight Black will kick off our Rock the Dock Summer Concert Series at Kwataqnuk Resort & Casino!  Our summer concert series is open to the public so bring the family out for some free live entertainment and dinner and drink specials! With a view like ours\, who wouldn’t want to spend an evening dancing on the patio! \nYou don’t want to miss “Northwest Montana’s Premiere Rock Band”! For more information about Sunlight Black\, visit The Band – SoundStation 108 | Polson\, Montana. \nOur Rock the Dock summer concert series will happen every Thursday and Friday through August with live music starting at 7pm. You can visit our Facebook page to see the schedule! (schedule is subject to change). \nWe will see you out on the patio just outside of Falling Waters Bar & Grill!
URL:https://kwataqnuk.com/event/rock-the-dock-sunlight-black/
CATEGORIES:event,Live Music,Music
ATTACH;FMTTYPE=image/jpeg:https://kwataqnuk.com/wp-content/uploads/2024/06/0524_ROCK_THE_DOCK_1920x1080Web_6_27.jpg
END:VEVENT
BEGIN:VEVENT
DTSTART;TZID=America/Denver:20240628T190000
DTEND;TZID=America/Denver:20240628T230000
DTSTAMP:20260420T232204
CREATED:20240610T134954Z
LAST-MODIFIED:20240624T141452Z
UID:32918-1719601200-1719615600@kwataqnuk.com
SUMMARY:Rock the Dock - Kelley & Benny
DESCRIPTION:Rock the Dock – Kelley & Benny \nKelley & Benny will be performing in our Rock the Dock Summer Concert Series at Kwataqnuk Resort & Casino!  Our summer concert series is open to the public\, so bring the family out for free live entertainment\, plus dinner and drink specials! With a view like ours\, who wouldn’t want to spend an evening dancing on the patio! \nOur Rock the Dock summer concert series will happen every Thursday and Friday through August with live music starting at 7pm. You can visit our Facebook page to see the schedule! (schedule is subject to change). \nWe will see you out on the patio just outside of Falling Waters Bar & Grill!
URL:https://kwataqnuk.com/event/rock-the-dock-kelley-and-benny/
CATEGORIES:event,Live Music,Music
ATTACH;FMTTYPE=image/jpeg:https://kwataqnuk.com/wp-content/uploads/2024/06/0524_ROCK_THE_DOCK_1920x1080Web_6_27-1.jpg
END:VEVENT
END:VCALENDAR