BEGIN:VCALENDAR
VERSION:2.0
PRODID:-//Kwataqnuk - ECPv6.15.20//NONSGML v1.0//EN
CALSCALE:GREGORIAN
METHOD:PUBLISH
X-ORIGINAL-URL:https://kwataqnuk.com
X-WR-CALDESC:Events for Kwataqnuk
REFRESH-INTERVAL;VALUE=DURATION:PT1H
X-Robots-Tag:noindex
X-PUBLISHED-TTL:PT1H
BEGIN:VTIMEZONE
TZID:America/Denver
BEGIN:DAYLIGHT
TZOFFSETFROM:-0700
TZOFFSETTO:-0600
TZNAME:MDT
DTSTART:20250309T090000
END:DAYLIGHT
BEGIN:STANDARD
TZOFFSETFROM:-0600
TZOFFSETTO:-0700
TZNAME:MST
DTSTART:20251102T080000
END:STANDARD
BEGIN:DAYLIGHT
TZOFFSETFROM:-0700
TZOFFSETTO:-0600
TZNAME:MDT
DTSTART:20260308T090000
END:DAYLIGHT
BEGIN:STANDARD
TZOFFSETFROM:-0600
TZOFFSETTO:-0700
TZNAME:MST
DTSTART:20261101T080000
END:STANDARD
BEGIN:DAYLIGHT
TZOFFSETFROM:-0700
TZOFFSETTO:-0600
TZNAME:MDT
DTSTART:20270314T090000
END:DAYLIGHT
BEGIN:STANDARD
TZOFFSETFROM:-0600
TZOFFSETTO:-0700
TZNAME:MST
DTSTART:20271107T080000
END:STANDARD
END:VTIMEZONE
BEGIN:VEVENT
DTSTART;TZID=America/Denver:20260510T110000
DTEND;TZID=America/Denver:20260510T150000
DTSTAMP:20260420T010611
CREATED:20260330T220450Z
LAST-MODIFIED:20260330T220450Z
UID:34394-1778410800-1778425200@kwataqnuk.com
SUMMARY:Mother's Day Champagne Brunch at Falling Waters
DESCRIPTION:Mother’s Day Champagne Brunch at Falling Waters\nJoin us for a Mother’s Day Champagne Brunch at Falling Waters on Sunday\, May 10th\, from 11 AM to 3 PM. Treat the special woman in your life to a delectable spread featuring eggs benedict\, pastries\, French toast\, bacon\, sausage\, desserts\, smoked salmon\, and more—all for only $25.99! We have limited seating\, please call 406-883-3636 ext 415 to make your reservation today! \nMom’s Mimosa Special\nTo make this celebration even more memorable\, enjoy our Mom’s Mimosa Special available all month long for just $6.00. Raise a toast to all the wonderful mothers out there! \nSpecial Hotel Package\nExtend the celebration with our exclusive hotel package that includes: \n\n\n\nA Room Discount \n\n\n$20 in Gaming Credits \n\n\nComplimentary Flowers \n\n\nMother’s Day Brunch on Sunday \n\n\n\nTreat Mom to a special getaway on Flathead Lake! This package offers complimentary flowers\, a $20 Xtra credit to use at Big Arm Casino or the upcoming 400 Horses Casino\, and a delightful brunch with a stunning view on Sunday\, May 10th at Falling Waters Bar & Grill. Let’s celebrate Mom and everything she does! Interested in booking this package? Call 406-883-3636! \nWe look forward to celebrating with you! \n\n\nAdditional Information\n\n\nFor more information about this event or special call or visit our friendly team! \n\n\nExplore S&K Gaming\, LLC\n\n\nS&K Gaming\, LLC oversees three establishments on the Flathead Indian Reservation! Kwataqnuk Resort & Casino\, Big Arm Resort & Casino\, and Gray Wolf Peak Casino each have something different to offer everyone! From million-dollar views of the pristine Flathead Lake and the Mission Mountains\, dining\, club member benefits\, golf\, gas\, a banquet hall for various events\, and the largest casino in Montana\, S&K Gaming\, LLC has you covered. \n\n\nLearn More\n\n\nInterested in learning more about S&K Gaming\, LLC and our other locations? Visit our website at https://skgamingllc.com/.
URL:https://kwataqnuk.com/event/mothers-day-champagne-brunch-at-falling-waters/
CATEGORIES:Banquet,dining,event,Hotel Special
ATTACH;FMTTYPE=image/png:https://kwataqnuk.com/wp-content/uploads/2026/03/KTN_Digital_MothersDayPackage_2_1920x1080.png
END:VEVENT
END:VCALENDAR