BEGIN:VCALENDAR
VERSION:2.0
PRODID:-//Kwataqnuk - ECPv6.15.20//NONSGML v1.0//EN
CALSCALE:GREGORIAN
METHOD:PUBLISH
X-ORIGINAL-URL:https://kwataqnuk.com
X-WR-CALDESC:Events for Kwataqnuk
REFRESH-INTERVAL;VALUE=DURATION:PT1H
X-Robots-Tag:noindex
X-PUBLISHED-TTL:PT1H
BEGIN:VTIMEZONE
TZID:America/Denver
BEGIN:DAYLIGHT
TZOFFSETFROM:-0700
TZOFFSETTO:-0600
TZNAME:MDT
DTSTART:20250309T090000
END:DAYLIGHT
BEGIN:STANDARD
TZOFFSETFROM:-0600
TZOFFSETTO:-0700
TZNAME:MST
DTSTART:20251102T080000
END:STANDARD
BEGIN:DAYLIGHT
TZOFFSETFROM:-0700
TZOFFSETTO:-0600
TZNAME:MDT
DTSTART:20260308T090000
END:DAYLIGHT
BEGIN:STANDARD
TZOFFSETFROM:-0600
TZOFFSETTO:-0700
TZNAME:MST
DTSTART:20261101T080000
END:STANDARD
BEGIN:DAYLIGHT
TZOFFSETFROM:-0700
TZOFFSETTO:-0600
TZNAME:MDT
DTSTART:20270314T090000
END:DAYLIGHT
BEGIN:STANDARD
TZOFFSETFROM:-0600
TZOFFSETTO:-0700
TZNAME:MST
DTSTART:20271107T080000
END:STANDARD
END:VTIMEZONE
BEGIN:VEVENT
DTSTART;TZID=America/Denver:20260405T110000
DTEND;TZID=America/Denver:20260405T140000
DTSTAMP:20260419T065143
CREATED:20260319T150018Z
LAST-MODIFIED:20260319T150020Z
UID:34386-1775386800-1775397600@kwataqnuk.com
SUMMARY:Easter Brunch at Falling Waters
DESCRIPTION:Easter Brunch at Falling Waters Bar & Grill\nJoin us for an Easter brunch at Falling Waters Bar & Grill to experience a high-quality dining experience at a great value! Enjoy a memorable\, family friendly dining experience featuring a mouthwatering selection of dishes that are sure to satisfy. \nOur Easter Brunch will feature Prime Rib\, ham\, an array of breakfast options\, fresh salads\, and delectable desserts. Are you craving savory or sweet? We’ve got you covered; our brunch has something for everyone. We have a great menu at a great value. \nEvent Details\n\n\n\nDate & Time: Easter Sunday\, 11 AM – 2 PM \n\n\nLocation: Falling Waters Bar & Grill \n\n\nPrice: \n\n\n\n$29.99 per adult \n\n\n$19.99 for children 10 years and under \n\n\n\n\n\n\nReservations\nTo ensure a seamless dining experience\, reservations are preferred. Please call Ext. 415 to reserve your table. \nDon’t miss out on this wonderful opportunity to celebrate Easter with family and friends at Falling Waters Bar & Grill. Reserve your spot today! \nVisit us today at Kwataqnuk Resort & Casino and discover why Falling Waters Bar & Grill is the best place to dine in Polson. Our lake-view restaurant offers something special for every occasion. When it comes to Polson restaurants\, Falling Waters Bar and Grill is unique and offers a stunning scenery and some of the friendliest staff. \n\nAdditional Information\n\n\nFor more information about this event call or visit our friendly Players Club team! \n\n\nExplore S&K Gaming\, LLC\n\n\nS&K Gaming\, LLC oversees three establishments on the Flathead Indian Reservation! Kwataqnuk Resort & Casino\, Big Arm Resort & Casino\, and Gray Wolf Peak Casino each have something different to offer everyone! From million-dollar views of the pristine Flathead Lake and the Mission Mountains\, dining\, club member benefits\, golf\, gas\, a banquet hall for various events\, and the largest casino in Montana\, S&K Gaming\, LLC has you covered. \n\n\nLearn More\n\n\nInterested in learning more about S&K Gaming\, LLC and our other locations? Visit our website at https://skgamingllc.com/.
URL:https://kwataqnuk.com/event/easter-brunch-at-falling-waters/
CATEGORIES:dining
ATTACH;FMTTYPE=image/jpeg:https://kwataqnuk.com/wp-content/uploads/2026/03/KTN_Digital_EasterFallingWaters_1_1920x1080.jpg
END:VEVENT
END:VCALENDAR