BEGIN:VCALENDAR
VERSION:2.0
PRODID:-//Kwataqnuk - ECPv6.15.20//NONSGML v1.0//EN
CALSCALE:GREGORIAN
METHOD:PUBLISH
X-WR-CALNAME:Kwataqnuk
X-ORIGINAL-URL:https://kwataqnuk.com
X-WR-CALDESC:Events for Kwataqnuk
REFRESH-INTERVAL;VALUE=DURATION:PT1H
X-Robots-Tag:noindex
X-PUBLISHED-TTL:PT1H
BEGIN:VTIMEZONE
TZID:America/Denver
BEGIN:DAYLIGHT
TZOFFSETFROM:-0700
TZOFFSETTO:-0600
TZNAME:MDT
DTSTART:20240310T090000
END:DAYLIGHT
BEGIN:STANDARD
TZOFFSETFROM:-0600
TZOFFSETTO:-0700
TZNAME:MST
DTSTART:20241103T080000
END:STANDARD
BEGIN:DAYLIGHT
TZOFFSETFROM:-0700
TZOFFSETTO:-0600
TZNAME:MDT
DTSTART:20250309T090000
END:DAYLIGHT
BEGIN:STANDARD
TZOFFSETFROM:-0600
TZOFFSETTO:-0700
TZNAME:MST
DTSTART:20251102T080000
END:STANDARD
BEGIN:DAYLIGHT
TZOFFSETFROM:-0700
TZOFFSETTO:-0600
TZNAME:MDT
DTSTART:20260308T090000
END:DAYLIGHT
BEGIN:STANDARD
TZOFFSETFROM:-0600
TZOFFSETTO:-0700
TZNAME:MST
DTSTART:20261101T080000
END:STANDARD
END:VTIMEZONE
BEGIN:VEVENT
DTSTART;TZID=America/Denver:20250214T080000
DTEND;TZID=America/Denver:20250214T170000
DTSTAMP:20260420T042652
CREATED:20250124T223806Z
LAST-MODIFIED:20250128T202433Z
UID:33713-1739520000-1739552400@kwataqnuk.com
SUMMARY:Falling Waters Valentine's Day Dinner Special
DESCRIPTION:Experience a Romantic evening with our Falling Waters Valentine’s Day Dinner Special!\n\n\nCelebrate Valentine’s Day with our Falling Waters Valentine’s Day Dinner Special on February 14th from 5 PM to 9 PM. Treat your loved one to a delectable heart-shaped ribeye for two\, paired with crab claws\, fresh vegetables\, and your choice of potato and salad. This Valentine’s Day Dinner promises to make your evening special. \n\n\nReserve Your Table\n\n\nTo ensure your spot\, please call 406-883-3636 and dial extension 415 for reservations. Our dedicated team is eager to assist you in planning a romantic dining experience on the picturesque Flathead Lake. \n\n\nEnhance Your Celebration with Our Stay and Play Package\n\n\nWhy not extend your celebration with our exclusive Valentine’s Stay and Play package? Available on February 14th and 15th\, this offer includes a cozy room\, a bottle of champagne\, a $40 Xtra Credit to use at our casino\, and a dinner special for two. Embrace your stay at Flathead Lake and create memories with this perfect romantic getaway. \n\n\nJoin us at Falling Waters and make this Valentine’s Day truly unforgettable! \n\n\nAdditional Information\nFor more information about this\, event\, or other events and promotions\, call or visit our friendly Kwataqnuk Resort & Casino Staff! \nExplore S&K Gaming\, LLC\nS&K Gaming\, LLC oversees three establishments on the Flathead Indian Reservation! Kwataqnuk Resort & Casino\, Big Arm Resort & Casino\, and Gray Wolf Peak Casino each have something different to offer everyone! From million-dollar views of the pristine Flathead Lake and the Mission Mountains\, dining\, club member benefits\, golf\, gas\, a banquet hall for various events\, and the largest casino in Montana\, S&K Gaming\, LLC has you covered. \nLearn More\nInterested in learning more about S&K Gaming\, LLC and our other locations? Visit our website at https://skgamingllc.com/.
URL:https://kwataqnuk.com/event/falling-waters-valentines-day-dinner-special/
CATEGORIES:dining,event
ATTACH;FMTTYPE=image/jpeg:https://kwataqnuk.com/wp-content/uploads/2025/01/FW_valentines-1920x1080-300dpi.jpg
END:VEVENT
END:VCALENDAR