BEGIN:VCALENDAR
VERSION:2.0
PRODID:-//Kwataqnuk - ECPv6.15.20//NONSGML v1.0//EN
CALSCALE:GREGORIAN
METHOD:PUBLISH
X-WR-CALNAME:Kwataqnuk
X-ORIGINAL-URL:https://kwataqnuk.com
X-WR-CALDESC:Events for Kwataqnuk
REFRESH-INTERVAL;VALUE=DURATION:PT1H
X-Robots-Tag:noindex
X-PUBLISHED-TTL:PT1H
BEGIN:VTIMEZONE
TZID:America/Denver
BEGIN:DAYLIGHT
TZOFFSETFROM:-0700
TZOFFSETTO:-0600
TZNAME:MDT
DTSTART:20230312T090000
END:DAYLIGHT
BEGIN:STANDARD
TZOFFSETFROM:-0600
TZOFFSETTO:-0700
TZNAME:MST
DTSTART:20231105T080000
END:STANDARD
BEGIN:DAYLIGHT
TZOFFSETFROM:-0700
TZOFFSETTO:-0600
TZNAME:MDT
DTSTART:20240310T090000
END:DAYLIGHT
BEGIN:STANDARD
TZOFFSETFROM:-0600
TZOFFSETTO:-0700
TZNAME:MST
DTSTART:20241103T080000
END:STANDARD
BEGIN:DAYLIGHT
TZOFFSETFROM:-0700
TZOFFSETTO:-0600
TZNAME:MDT
DTSTART:20250309T090000
END:DAYLIGHT
BEGIN:STANDARD
TZOFFSETFROM:-0600
TZOFFSETTO:-0700
TZNAME:MST
DTSTART:20251102T080000
END:STANDARD
END:VTIMEZONE
BEGIN:VEVENT
DTSTART;TZID=America/Denver:20240616T120000
DTEND;TZID=America/Denver:20240616T200000
DTSTAMP:20260419T065010
CREATED:20240521T140111Z
LAST-MODIFIED:20240521T152834Z
UID:32865-1718539200-1718568000@kwataqnuk.com
SUMMARY:Father's Day BBQ Special
DESCRIPTION:Father’s Day BBQ Special at Falling Waters Bar & Grill – \nCome join us at Falling Waters Bar & Grill for delicious Father’s Day BBQ special! Treat your dad to a classic feast featuring BBQ ribs\, baked beans\, mac ‘n’ cheese\, potato salad\, and a variety of other mouthwatering dishes. Our Falling Waters team is putting together a special that is sure to satisfy the dads. \nWe are located inside the Kwataqnuk Resort & Casino\, just downstairs\, with an unbeatable view of the beautiful Flathead Lake! \n\n\nWhile you’re here\, don’t miss the opportunity to visit the Player’s Club. As a special Father’s Day treat\, dads can receive $10 Xtra Credit. For more details or to redeem this offer\, visit the Players Club at any of our S&K Gaming casinos (Big Arm Resort & Casino\, Kwataqnuk Resort & Casino\, or Gray Wolf Peak Casino). It’s our way of saying thank you for all that dads do. Whether you’re looking to enjoy some lucky slots or simply relax and unwind\, the Kwataqnuk Resort & Casino has something for everyone. \n\n\nMake Father’s Day truly special by celebrating with us at Falling Waters Bar & Grill. With our classic BBQ spread and exclusive casino perks\, it’s the perfect way to show your appreciation. We look forward to welcoming you and your family for a day filled with great food\, fun\, and excitement!
URL:https://kwataqnuk.com/event/fathers-day-bbq-special/
CATEGORIES:Banquet,dining
ATTACH;FMTTYPE=image/jpeg:https://kwataqnuk.com/wp-content/uploads/2024/05/FathersDay-BBQ-1920_180Web.jpg
END:VEVENT
END:VCALENDAR